Workbook

Sheet Сводка
B2: 2026 | F2: 3Q2025 | J2: 4Q2025 | N2: Июль | Z2: Август | AN2: Сентябрь | BD2: Октябрь | BP2: Ноябрь | CB2: Декабрь
B3: Квота | D3: Факт | F3: Квота | H3: Факт | J3: Квота | L3: Факт | N3: Факт | P3: 30.06 - 06.07 | R3: 07.07 - 13.07 | T3: 14.07 - 20.07 | V3: 21.07 - 27.07 | X3: 28.07 - 03.08 | Z3: План | AB3: Факт | AD3: 04.08 - 10.08 | AF3: 11.08 - 17.08 | AH3: 18.08 - 24.08 | AJ3: 25.08 - 31.08 | AN3: План | AP3: Факт | AR3: 01-07.09 | AT3: 08.09 - 14.09 | AV3: 15.09 - 21.09 | AX3: 22.09 - 28.09 | AZ3: 29.09 - 05.10 | BB3: 45930 | BD3: Квота | BF3: Факт | BH3: 06.10 - 12.10 | BJ3: 13.10 - 19.10 | BL3: 20.10 - 26.10 | BN3: 27.10 - 02.11 | BP3: Квота | BR3: Факт | BT3: 03.11 - 09.11 | BV3: 10.11 - 16.11 | BX3: 17.11 - 23.11 | BZ3: 24.11 - 30.11 | CB3: Квота | CD3: Факт | CF3: 01.12 - 07.12 | CH3: 08.12 - 14.12 | CJ3: 15.12 - 21.12 | CL3: 22.12 - 28.12 | CN3: 29.12 - 30.12
B4: MQL | C4: SQL | D4: MQL | E4: SQL | F4: MQL | G4: SQL | H4: MQL | I4: SQL | J4: MQL | K4: SQL | L4: MQL | M4: SQL | N4: MQL | O4: SQL | P4: MQL | Q4: SQL | R4: MQL | S4: SQL | T4: MQL | U4: SQL | V4: MQL | W4: SQL | X4: MQL | Y4: SQL | Z4: MQL | AA4: SQL | AB4: MQL | AC4: SQL | AD4: MQL | AE4: SQL | AF4: MQL | AG4: SQL | AH4: MQL | AI4: SQL | AJ4: MQL | AK4: SQL | AN4: MQL | AO4: SQL | AP4: MQL | AQ4: SQL | AR4: MQL | AS4: SQL | AT4: MQL | AU4: MQL | AV4: MQL | AW4: SQL | AX4: MQL | AY4: SQL | AZ4: MQL | BA4: SQL | BB4: MQL | BC4: SQL | BD4: MQL | BE4: SQL | BF4: MQL | BG4: SQL | BH4: MQL | BI4: SQL | BJ4: MQL | BK4: SQL | BL4: MQL | BM4: SQL | BN4: MQL | BO4: SQL | BP4: MQL | BQ4: SQL | BR4: MQL | BS4: SQL | BT4: MQL | BU4: SQL | BV4: MQL | BW4: SQL | BX4: MQL | BY4: SQL | BZ4: MQL | CA4: SQL | CB4: MQL | CC4: SQL | CD4: MQL | CE4: SQL | CF4: MQL | CG4: SQL | CH4: MQL | CI4: SQL | CJ4: MQL | CK4: SQL | CL4: MQL | CM4: SQL | CN4: MQL | CO4: SQL
A5: Лиды | B5: ='Продукт 2'!B11+'Продукт 3'!B11 | C5: ='Продукт 2'!D11+'Продукт 3'!D11 | D5: =SUM(N5,AB5,AP5,BF5,BR5,CD5) | E5: =SUM(O5,AC5,AQ5,BG5,BS5,CE5) | F5: ='Продукт 2'!B6+'Продукт 2'!B7+'Продукт 2'!B8+'Продукт 3'!B6+'Продукт 3'!B7+'Продукт 3'!B8 | G5: ='Продукт 2'!D6+'Продукт 2'!D7+'Продукт 2'!D8 | H5: =AB5+AP5+BF5 | I5: =AC5+AQ5+BG5 | J5: ='Продукт 2'!B8+'Продукт 2'!B9+'Продукт 2'!B10+'Продукт 3'!B8+'Продукт 3'!B9+'Продукт 3'!B10 | K5: ='Продукт 2'!D8+'Продукт 2'!D9+'Продукт 2'!D10+'Продукт 3'!D8+'Продукт 3'!D9+'Продукт 3'!D10 | L5: =BF5+BR5+CD5 | M5: =BG5+BS5+CE5 | N5: =SUM(N7:N20) | O5: =SUM(O7:O20) | P5: =SUM(P7:P20) | Q5: =SUM(Q7:Q20) | R5: =SUM(R7:R20) | S5: =SUM(S7:S20) | T5: =SUM(T7:T20) | U5: =SUM(U7:U20) | ... Y5: =SUM(Y7:Y20) | Z5: ='Продукт 2'!B6+'Продукт 3'!B6+'Продукт 1'!B6 | AA5: ='Продукт 2'!D6+'Продукт 3'!D6+'Продукт 1'!D6 | AB5: =SUM(AB7:AB20) | AC5: =SUM(AC7:AC20) | AD5: =SUM(AD7:AD20) | AE5: =SUM(AE7:AE20) | AF5: =SUM(AF7:AF20) | AG5: =SUM(AG7:AG20) | AH5: =SUM(AH7:AH20) | AI5: =SUM(AI7:AI20) | ... AK5: =SUM(AK7:AK20) | AN5: ='Продукт 2'!B7+'Продукт 3'!B7+'Продукт 1'!B7 | AO5: ='Продукт 2'!D7+'Продукт 3'!D7+'Продукт 1'!D7 | AP5: =SUM(AP7:AP20) | AQ5: =SUM(AQ7:AQ20) | AR5: =SUM(AR7:AR20) | AS5: =SUM(AS7:AS20) | AT5: =SUM(AT7:AT20) | AU5: =SUM(AU7:AU20) | AV5: =SUM(AV7:AV20) | AW5: =SUM(AW7:AW20) | ... BC5: =SUM(BC7:BC20) | BD5: ='Продукт 2'!B8+'Продукт 3'!B8 | BE5: ='Продукт 2'!D8+'Продукт 3'!D8 | BF5: =SUM(BF7:BF20) | BG5: =SUM(BG7:BG20) | BH5: =SUM(BH7:BH20) | BI5: =SUM(BI7:BI20) | BJ5: =SUM(BJ7:BJ20) | BK5: =SUM(BK7:BK20) | BL5: =SUM(BL7:BL20) | BM5: =SUM(BM7:BM20) | ... BO5: =SUM(BO7:BO20) | BP5: ='Продукт 2'!B9+'Продукт 3'!B9 | BQ5: ='Продукт 2'!D9+'Продукт 3'!D9 | BR5: =SUM(BR7:BR20) | BS5: =SUM(BS7:BS20) | BT5: =SUM(BT7:BT20) | BU5: =SUM(BU7:BU20) | BV5: =SUM(BV7:BV20) | BW5: =SUM(BW7:BW20) | BX5: =SUM(BX7:BX20) | BY5: =SUM(BY7:BY20) | ... CA5: =SUM(CA7:CA20) | CB5: ='Продукт 2'!B10+'Продукт 3'!B10 | CC5: ='Продукт 2'!D10+'Продукт 3'!D10 | CD5: =SUM(CD7:CD20) | CE5: =SUM(CE7:CE20) | CF5: =SUM(CF7:CF20) | CG5: =SUM(CG7:CG20) | CH5: =SUM(CH7:CH20) | CI5: =SUM(CI7:CI20) | CJ5: =SUM(CJ7:CJ20) | CK5: =SUM(CK7:CK20) | ... CO5: =SUM(CO7:CO20)
A6: MQL->SQL | B6: 0.4 | D6: =IFERROR(E5/D5,0) | F6: =IFERROR(G5/F5,0) | H6: =IFERROR(I5/H5,0) | J6: =IFERROR(K5/J5,0) | L6: =IFERROR(M5/L5,0) | N6: =IFERROR(O5/N5,0) | P6: =IFERROR(Q5/P5,0) | R6: =IFERROR(S5/R5,0) | T6: =IFERROR(U5/T5,0) | V6: =IFERROR(W5/V5,0) | X6: =IFERROR(Y5/X5,0) | Z6: =IFERROR(AA5/Z5,0) | AB6: =IFERROR(AC5/AB5,0) | AD6: =IFERROR(AE5/AD5,0) | AF6: =IFERROR(AG5/AF5,0) | AH6: =IFERROR(AI5/AH5,0) | AJ6: =IFERROR(AK5/AJ5,0) | AN6: =IFERROR(AO5/AN5,0) | AP6: =IFERROR(AQ5/AP5,0) | AR6: =IFERROR(AS5/AR5,0) | AT6: =IFERROR(AU5/AT5,0) | AV6: =IFERROR(AW5/AV5,0) | AX6: =IFERROR(AY5/AX5,0) | AZ6: =IFERROR(BA5/AZ5,0) | BB6: =IFERROR(BC5/BB5,0) | BD6: =IFERROR(BE5/BD5,0) | BF6: =IFERROR(BG5/BF5,0) | BH6: =IFERROR(BI5/BH5,0) | BJ6: =IFERROR(BK5/BJ5,0) | BL6: =IFERROR(BM5/BL5,0) | BN6: =IFERROR(BO5/BN5,0) | BP6: =IFERROR(BQ5/BP5,0) | BR6: =IFERROR(BS5/BR5,0) | BT6: =IFERROR(BU5/BT5,0) | BV6: =IFERROR(BW5/BV5,0) | BX6: =IFERROR(BY5/BX5,0) | BZ6: =IFERROR(CA5/BZ5,0) | CB6: =IFERROR(CC5/CB5,0) | CD6: =IFERROR(CE5/CD5,0) | CF6: =IFERROR(CG5/CF5,0) | CH6: =IFERROR(CI5/CH5,0) | CJ6: =IFERROR(CK5/CJ5,0) | CL6: =IFERROR(CM5/CL5,0) | CN6: =IFERROR(CO5/CN5,0)
A7: SEO | D7: =SUM(N7,AB7,AP7,BF7,BR7,CD7) | E7: =SUM(O7,AC7,AQ7,BG7,BS7,CE7) | H7: =N7+AB7+AP7 | I7: =O7+AC7+AQ7 | L7: =BF7+BR7+CD7 | M7: =BG7+BS7+CE7 | N7: =P7+R7+T7+V7+X7 | O7: =Q7+S7+U7+Y7 | P7: 0 | Q7: 0 | R7: 0 | S7: 0 | T7: 1 | U7: 1 | V7: 1 | W7: 0 | X7: 1 | Y7: 1 | AB7: =AD7+AF7+AH7+AJ7+AL7 | AC7: =AE7+AG7+AI7+AM7 | AD7: ='Каналы продукт 1'!AF7+'Каналы продукт 2'!AF7+'Каналы продукт 3'!AF7 | AE7: ='Каналы продукт 1'!AG7+'Каналы продукт 2'!AG7+'Каналы продукт 3'!AG7 | AF7: ='Каналы продукт 1'!AH7+'Каналы продукт 2'!AH7+'Каналы продукт 3'!AH7 | AG7: ='Каналы продукт 1'!AI7+'Каналы продукт 2'!AI7+'Каналы продукт 3'!AI7 | AH7: ='Каналы продукт 1'!AJ7+'Каналы продукт 2'!AJ7+'Каналы продукт 3'!AJ7 | AI7: ='Каналы продукт 1'!AK7+'Каналы продукт 2'!AK7+'Каналы продукт 3'!AK7 | AJ7: ='Каналы продукт 1'!AL7+'Каналы продукт 2'!AL7+'Каналы продукт 3'!AL7 | AK7: ='Каналы продукт 1'!AM7+'Каналы продукт 2'!AM7+'Каналы продукт 3'!AM7 | AP7: =AR7+AT7+AV7+AX7+AZ7 | AQ7: =AS7+AU7+AW7+AY7+BA7 | AR7: ='Каналы продукт 1'!AT7+'Каналы продукт 2'!AT7+'Каналы продукт 3'!AT7 | AS7: ='Каналы продукт 1'!AU7+'Каналы продукт 2'!AU7+'Каналы продукт 3'!AU7 | AT7: ='Каналы продукт 1'!AV7+'Каналы продукт 2'!AV7+'Каналы продукт 3'!AV7 | AU7: ='Каналы продукт 1'!AW7+'Каналы продукт 2'!AW7+'Каналы продукт 3'!AW7 | AV7: ='Каналы продукт 1'!AX7+'Каналы продукт 2'!AX7+'Каналы продукт 3'!AX7 | AW7: ='Каналы продукт 1'!AY7+'Каналы продукт 2'!AY7+'Каналы продукт 3'!AY7 | AX7: ='Каналы продукт 1'!AZ7+'Каналы продукт 2'!AZ7+'Каналы продукт 3'!AZ7 | AY7: ='Каналы продукт 1'!BA7+'Каналы продукт 2'!BA7+'Каналы продукт 3'!BA7 | ... BA7: ='Каналы продукт 1'!BC7+'Каналы продукт 2'!BC7+'Каналы продукт 3'!BC7
A8: Яндекс.Директ | D8: =SUM(N8,AB8,AP8,BF8,BR8,CD8) | E8: =SUM(O8,AC8,AQ8,BG8,BS8,CE8) | H8: =N8+AB8+AP8 | I8: =O8+AC8+AQ8 | L8: =BF8+BR8+CD8 | M8: =BG8+BS8+CE8 | N8: =P8+R8+T8+V8+X8 | O8: =Q8+S8+U8+Y8 | P8: 6 | Q8: 5 | R8: 1 | S8: 1 | T8: 0 | U8: 0 | V8: 0 | W8: 0 | X8: 0 | Y8: 0 | AB8: =AD8+AF8+AH8+AJ8+AL8 | AC8: =AE8+AG8+AI8+AM8 | AD8: ='Каналы продукт 1'!AF8+'Каналы продукт 2'!AF8+'Каналы продукт 3'!AF8 | AE8: ='Каналы продукт 1'!AG8+'Каналы продукт 2'!AG8+'Каналы продукт 3'!AG8 | AF8: ='Каналы продукт 1'!AH8+'Каналы продукт 2'!AH8+'Каналы продукт 3'!AH8 | AG8: ='Каналы продукт 1'!AI8+'Каналы продукт 2'!AI8+'Каналы продукт 3'!AI8 | AH8: ='Каналы продукт 1'!AJ8+'Каналы продукт 2'!AJ8+'Каналы продукт 3'!AJ8 | AI8: ='Каналы продукт 1'!AK8+'Каналы продукт 2'!AK8+'Каналы продукт 3'!AK8 | AJ8: ='Каналы продукт 1'!AL8+'Каналы продукт 2'!AL8+'Каналы продукт 3'!AL8 | AK8: ='Каналы продукт 1'!AM8+'Каналы продукт 2'!AM8+'Каналы продукт 3'!AM8 | AP8: =AR8+AT8+AV8+AX8+AZ8 | AQ8: =AS8+AU8+AW8+AY8+BA8 | AR8: ='Каналы продукт 1'!AT8+'Каналы продукт 2'!AT8+'Каналы продукт 3'!AT8 | AS8: ='Каналы продукт 1'!AU8+'Каналы продукт 2'!AU8+'Каналы продукт 3'!AU8 | AT8: ='Каналы продукт 1'!AV8+'Каналы продукт 2'!AV8+'Каналы продукт 3'!AV8 | AU8: ='Каналы продукт 1'!AW8+'Каналы продукт 2'!AW8+'Каналы продукт 3'!AW8 | AV8: ='Каналы продукт 1'!AX8+'Каналы продукт 2'!AX8+'Каналы продукт 3'!AX8 | AW8: ='Каналы продукт 1'!AY8+'Каналы продукт 2'!AY8+'Каналы продукт 3'!AY8 | AX8: ='Каналы продукт 1'!AZ8+'Каналы продукт 2'!AZ8+'Каналы продукт 3'!AZ8 | AY8: ='Каналы продукт 1'!BA8+'Каналы продукт 2'!BA8+'Каналы продукт 3'!BA8 | ... BA8: ='Каналы продукт 1'!BC8+'Каналы продукт 2'!BC8+'Каналы продукт 3'!BC8
A9: Реферал | D9: =SUM(N9,AB9,AP9,BF9,BR9,CD9) | E9: =SUM(O9,AC9,AQ9,BG9,BS9,CE9) | H9: =N9+AB9+AP9 | I9: =O9+AC9+AQ9 | L9: =BF9+BR9+CD9 | M9: =BG9+BS9+CE9 | N9: =P9+R9+T9+V9+X9 | O9: =Q9+S9+U9+Y9 | P9: 0 | Q9: 0 | R9: 0 | S9: 0 | T9: 0 | U9: 0 | V9: 0 | W9: 0 | X9: 0 | Y9: 0 | AB9: =AD9+AF9+AH9+AJ9+AL9 | AC9: =AE9+AG9+AI9+AM9 | AD9: ='Каналы продукт 1'!AF9+'Каналы продукт 2'!AF9+'Каналы продукт 3'!AF9 | AE9: ='Каналы продукт 1'!AG9+'Каналы продукт 2'!AG9+'Каналы продукт 3'!AG9 | AF9: ='Каналы продукт 1'!AH9+'Каналы продукт 2'!AH9+'Каналы продукт 3'!AH9 | AG9: ='Каналы продукт 1'!AI9+'Каналы продукт 2'!AI9+'Каналы продукт 3'!AI9 | AH9: ='Каналы продукт 1'!AJ9+'Каналы продукт 2'!AJ9+'Каналы продукт 3'!AJ9 | AI9: ='Каналы продукт 1'!AK9+'Каналы продукт 2'!AK9+'Каналы продукт 3'!AK9 | AJ9: ='Каналы продукт 1'!AL9+'Каналы продукт 2'!AL9+'Каналы продукт 3'!AL9 | AK9: ='Каналы продукт 1'!AM9+'Каналы продукт 2'!AM9+'Каналы продукт 3'!AM9 | AP9: =AR9+AT9+AV9+AX9+AZ9 | AQ9: =AS9+AU9+AW9+AY9+BA9 | AR9: ='Каналы продукт 1'!AT9+'Каналы продукт 2'!AT9+'Каналы продукт 3'!AT9 | AS9: ='Каналы продукт 1'!AU9+'Каналы продукт 2'!AU9+'Каналы продукт 3'!AU9 | AT9: ='Каналы продукт 1'!AV9+'Каналы продукт 2'!AV9+'Каналы продукт 3'!AV9 | AU9: ='Каналы продукт 1'!AW9+'Каналы продукт 2'!AW9+'Каналы продукт 3'!AW9 | AV9: ='Каналы продукт 1'!AX9+'Каналы продукт 2'!AX9+'Каналы продукт 3'!AX9 | AW9: ='Каналы продукт 1'!AY9+'Каналы продукт 2'!AY9+'Каналы продукт 3'!AY9 | AX9: ='Каналы продукт 1'!AZ9+'Каналы продукт 2'!AZ9+'Каналы продукт 3'!AZ9 | AY9: ='Каналы продукт 1'!BA9+'Каналы продукт 2'!BA9+'Каналы продукт 3'!BA9 | ... BA9: ='Каналы продукт 1'!BC9+'Каналы продукт 2'!BC9+'Каналы продукт 3'!BC9
A10: Внешние площадки | D10: =SUM(N10,AB10,AP10,BF10,BR10,CD10) | E10: =SUM(O10,AC10,AQ10,BG10,BS10,CE10) | H10: =N10+AB10+AP10 | I10: =O10+AC10+AQ10 | L10: =BF10+BR10+CD10 | M10: =BG10+BS10+CE10 | N10: =P10+R10+T10+V10+X10 | O10: =Q10+S10+U10+Y10 | P10: 0 | Q10: 0 | R10: 0 | S10: 0 | T10: 0 | U10: 0 | V10: 0 | W10: 0 | X10: 0 | Y10: 0 | AB10: =AD10+AF10+AH10+AJ10+AL10 | AC10: =AE10+AG10+AI10+AM10 | AD10: ='Каналы продукт 1'!AF10+'Каналы продукт 2'!AF10+'Каналы продукт 3'!AF10 | AE10: ='Каналы продукт 1'!AG10+'Каналы продукт 2'!AG10+'Каналы продукт 3'!AG10 | AF10: ='Каналы продукт 1'!AH10+'Каналы продукт 2'!AH10+'Каналы продукт 3'!AH10 | AG10: ='Каналы продукт 1'!AI10+'Каналы продукт 2'!AI10+'Каналы продукт 3'!AI10 | AH10: ='Каналы продукт 1'!AJ10+'Каналы продукт 2'!AJ10+'Каналы продукт 3'!AJ10 | AI10: ='Каналы продукт 1'!AK10+'Каналы продукт 2'!AK10+'Каналы продукт 3'!AK10 | AJ10: ='Каналы продукт 1'!AL10+'Каналы продукт 2'!AL10+'Каналы продукт 3'!AL10 | AK10: ='Каналы продукт 1'!AM10+'Каналы продукт 2'!AM10+'Каналы продукт 3'!AM10 | AP10: =AR10+AT10+AV10+AX10+AZ10 | AQ10: =AS10+AU10+AW10+AY10+BA10 | AR10: ='Каналы продукт 1'!AT10+'Каналы продукт 2'!AT10+'Каналы продукт 3'!AT10 | AS10: ='Каналы продукт 1'!AU10+'Каналы продукт 2'!AU10+'Каналы продукт 3'!AU10 | AT10: ='Каналы продукт 1'!AV10+'Каналы продукт 2'!AV10+'Каналы продукт 3'!AV10 | AU10: ='Каналы продукт 1'!AW10+'Каналы продукт 2'!AW10+'Каналы продукт 3'!AW10 | AV10: ='Каналы продукт 1'!AX10+'Каналы продукт 2'!AX10+'Каналы продукт 3'!AX10 | AW10: ='Каналы продукт 1'!AY10+'Каналы продукт 2'!AY10+'Каналы продукт 3'!AY10 | AX10: ='Каналы продукт 1'!AZ10+'Каналы продукт 2'!AZ10+'Каналы продукт 3'!AZ10 | AY10: ='Каналы продукт 1'!BA10+'Каналы продукт 2'!BA10+'Каналы продукт 3'!BA10 | ... BA10: ='Каналы продукт 1'!BC10+'Каналы продукт 2'!BC10+'Каналы продукт 3'!BC10
A11: Соцсети | D11: =SUM(N11,AB11,AP11,BF11,BR11,CD11) | E11: =SUM(O11,AC11,AQ11,BG11,BS11,CE11) | H11: =N11+AB11+AP11 | I11: =O11+AC11+AQ11 | L11: =BF11+BR11+CD11 | M11: =BG11+BS11+CE11 | N11: =P11+R11+T11+V11+X11 | O11: =Q11+S11+U11+Y11 | P11: 0 | Q11: 0 | R11: 0 | S11: 0 | T11: 0 | U11: 0 | V11: 0 | W11: 0 | X11: 0 | Y11: 0 | AB11: =AD11+AF11+AH11+AJ11+AL11 | AC11: =AE11+AG11+AI11+AM11 | AD11: ='Каналы продукт 1'!AF11+'Каналы продукт 2'!AF11+'Каналы продукт 3'!AF11 | AE11: ='Каналы продукт 1'!AG11+'Каналы продукт 2'!AG11+'Каналы продукт 3'!AG11 | AF11: ='Каналы продукт 1'!AH11+'Каналы продукт 2'!AH11+'Каналы продукт 3'!AH11 | AG11: ='Каналы продукт 1'!AI11+'Каналы продукт 2'!AI11+'Каналы продукт 3'!AI11 | AH11: ='Каналы продукт 1'!AJ11+'Каналы продукт 2'!AJ11+'Каналы продукт 3'!AJ11 | AI11: ='Каналы продукт 1'!AK11+'Каналы продукт 2'!AK11+'Каналы продукт 3'!AK11 | AJ11: ='Каналы продукт 1'!AL11+'Каналы продукт 2'!AL11+'Каналы продукт 3'!AL11 | AK11: ='Каналы продукт 1'!AM11+'Каналы продукт 2'!AM11+'Каналы продукт 3'!AM11 | AP11: =AR11+AT11+AV11+AX11+AZ11 | AQ11: =AS11+AU11+AW11+AY11+BA11 | AR11: ='Каналы продукт 1'!AT11+'Каналы продукт 2'!AT11+'Каналы продукт 3'!AT11 | AS11: ='Каналы продукт 1'!AU11+'Каналы продукт 2'!AU11+'Каналы продукт 3'!AU11 | AT11: ='Каналы продукт 1'!AV11+'Каналы продукт 2'!AV11+'Каналы продукт 3'!AV11 | AU11: ='Каналы продукт 1'!AW11+'Каналы продукт 2'!AW11+'Каналы продукт 3'!AW11 | AV11: ='Каналы продукт 1'!AX11+'Каналы продукт 2'!AX11+'Каналы продукт 3'!AX11 | AW11: ='Каналы продукт 1'!AY11+'Каналы продукт 2'!AY11+'Каналы продукт 3'!AY11 | AX11: ='Каналы продукт 1'!AZ11+'Каналы продукт 2'!AZ11+'Каналы продукт 3'!AZ11 | AY11: ='Каналы продукт 1'!BA11+'Каналы продукт 2'!BA11+'Каналы продукт 3'!BA11 | ... BA11: ='Каналы продукт 1'!BC11+'Каналы продукт 2'!BC11+'Каналы продукт 3'!BC11
A12: Прямые визиты | D12: =SUM(N12,AB12,AP12,BF12,BR12,CD12) | E12: =SUM(O12,AC12,AQ12,BG12,BS12,CE12) | H12: =N12+AB12+AP12 | I12: =O12+AC12+AQ12 | L12: =BF12+BR12+CD12 | M12: =BG12+BS12+CE12 | N12: =P12+R12+T12+V12+X12 | O12: =Q12+S12+U12+Y12 | P12: 0 | Q12: 0 | R12: 0 | S12: 0 | T12: 0 | U12: 0 | V12: 0 | W12: 0 | X12: 0 | Y12: 0 | AB12: =AD12+AF12+AH12+AJ12+AL12 | AC12: =AE12+AG12+AI12+AM12 | AD12: ='Каналы продукт 1'!AF12+'Каналы продукт 2'!AF12+'Каналы продукт 3'!AF12 | AE12: ='Каналы продукт 1'!AG12+'Каналы продукт 2'!AG12+'Каналы продукт 3'!AG12 | AF12: ='Каналы продукт 1'!AH12+'Каналы продукт 2'!AH12+'Каналы продукт 3'!AH12 | AG12: ='Каналы продукт 1'!AI12+'Каналы продукт 2'!AI12+'Каналы продукт 3'!AI12 | AH12: ='Каналы продукт 1'!AJ12+'Каналы продукт 2'!AJ12+'Каналы продукт 3'!AJ12 | AI12: ='Каналы продукт 1'!AK12+'Каналы продукт 2'!AK12+'Каналы продукт 3'!AK12 | AJ12: ='Каналы продукт 1'!AL12+'Каналы продукт 2'!AL12+'Каналы продукт 3'!AL12 | AK12: ='Каналы продукт 1'!AM12+'Каналы продукт 2'!AM12+'Каналы продукт 3'!AM12 | AP12: =AR12+AT12+AV12+AX12+AZ12 | AQ12: =AS12+AU12+AW12+AY12+BA12 | AR12: ='Каналы продукт 1'!AT12+'Каналы продукт 2'!AT12+'Каналы продукт 3'!AT12 | AS12: ='Каналы продукт 1'!AU12+'Каналы продукт 2'!AU12+'Каналы продукт 3'!AU12 | AT12: ='Каналы продукт 1'!AV12+'Каналы продукт 2'!AV12+'Каналы продукт 3'!AV12 | AU12: ='Каналы продукт 1'!AW12+'Каналы продукт 2'!AW12+'Каналы продукт 3'!AW12 | AV12: ='Каналы продукт 1'!AX12+'Каналы продукт 2'!AX12+'Каналы продукт 3'!AX12 | AW12: ='Каналы продукт 1'!AY12+'Каналы продукт 2'!AY12+'Каналы продукт 3'!AY12 | AX12: ='Каналы продукт 1'!AZ12+'Каналы продукт 2'!AZ12+'Каналы продукт 3'!AZ12 | AY12: ='Каналы продукт 1'!BA12+'Каналы продукт 2'!BA12+'Каналы продукт 3'!BA12 | ... BA12: ='Каналы продукт 1'!BC12+'Каналы продукт 2'!BC12+'Каналы продукт 3'!BC12
A13: VK Реклама | D13: =SUM(N13,AB13,AP13,BF13,BR13,CD13) | E13: =SUM(O13,AC13,AQ13,BG13,BS13,CE13) | H13: =N13+AB13+AP13 | I13: =O13+AC13+AQ13 | L13: =BF13+BR13+CD13 | M13: =BG13+BS13+CE13 | N13: =P13+R13+T13+V13+X13 | O13: =Q13+S13+U13+Y13 | P13: 0 | Q13: 0 | R13: 0 | S13: 0 | T13: 0 | U13: 0 | V13: 0 | W13: 0 | X13: 0 | Y13: 0 | AB13: =AD13+AF13+AH13+AJ13+AL13 | AC13: =AE13+AG13+AI13+AM13 | AD13: ='Каналы продукт 1'!AF13+'Каналы продукт 2'!AF13+'Каналы продукт 3'!AF13 | AE13: ='Каналы продукт 1'!AG13+'Каналы продукт 2'!AG13+'Каналы продукт 3'!AG13 | AF13: ='Каналы продукт 1'!AH13+'Каналы продукт 2'!AH13+'Каналы продукт 3'!AH13 | AG13: ='Каналы продукт 1'!AI13+'Каналы продукт 2'!AI13+'Каналы продукт 3'!AI13 | AH13: ='Каналы продукт 1'!AJ13+'Каналы продукт 2'!AJ13+'Каналы продукт 3'!AJ13 | AI13: ='Каналы продукт 1'!AK13+'Каналы продукт 2'!AK13+'Каналы продукт 3'!AK13 | AJ13: ='Каналы продукт 1'!AL13+'Каналы продукт 2'!AL13+'Каналы продукт 3'!AL13 | AK13: ='Каналы продукт 1'!AM13+'Каналы продукт 2'!AM13+'Каналы продукт 3'!AM13 | AP13: =AR13+AT13+AV13+AX13+AZ13 | AQ13: =AS13+AU13+AW13+AY13+BA13 | AR13: ='Каналы продукт 1'!AT13+'Каналы продукт 2'!AT13+'Каналы продукт 3'!AT13 | AS13: ='Каналы продукт 1'!AU13+'Каналы продукт 2'!AU13+'Каналы продукт 3'!AU13 | AT13: ='Каналы продукт 1'!AV13+'Каналы продукт 2'!AV13+'Каналы продукт 3'!AV13 | AU13: ='Каналы продукт 1'!AW13+'Каналы продукт 2'!AW13+'Каналы продукт 3'!AW13 | AV13: ='Каналы продукт 1'!AX13+'Каналы продукт 2'!AX13+'Каналы продукт 3'!AX13 | AW13: ='Каналы продукт 1'!AY13+'Каналы продукт 2'!AY13+'Каналы продукт 3'!AY13 | AX13: ='Каналы продукт 1'!AZ13+'Каналы продукт 2'!AZ13+'Каналы продукт 3'!AZ13 | AY13: ='Каналы продукт 1'!BA13+'Каналы продукт 2'!BA13+'Каналы продукт 3'!BA13 | ... BA13: ='Каналы продукт 1'!BC13+'Каналы продукт 2'!BC13+'Каналы продукт 3'!BC13
A14: Вебинары/Мероприятия | D14: =SUM(N14,AB14,AP14,BF14,BR14,CD14) | E14: =SUM(O14,AC14,AQ14,BG14,BS14,CE14) | H14: =N14+AB14+AP14 | I14: =O14+AC14+AQ14 | L14: =BF14+BR14+CD14 | M14: =BG14+BS14+CE14 | N14: =P14+R14+T14+V14+X14 | O14: =Q14+S14+U14+Y14 | P14: 0 | Q14: 0 | R14: 0 | S14: 0 | T14: 0 | U14: 0 | V14: 0 | W14: 0 | X14: 0 | Y14: 0 | AB14: =AD14+AF14+AH14+AJ14+AL14 | AC14: =AE14+AG14+AI14+AM14 | AD14: ='Каналы продукт 1'!AF14+'Каналы продукт 2'!AF14+'Каналы продукт 3'!AF14 | AE14: ='Каналы продукт 1'!AG14+'Каналы продукт 2'!AG14+'Каналы продукт 3'!AG14 | AF14: ='Каналы продукт 1'!AH14+'Каналы продукт 2'!AH14+'Каналы продукт 3'!AH14 | AG14: ='Каналы продукт 1'!AI14+'Каналы продукт 2'!AI14+'Каналы продукт 3'!AI14 | AH14: ='Каналы продукт 1'!AJ14+'Каналы продукт 2'!AJ14+'Каналы продукт 3'!AJ14 | AI14: ='Каналы продукт 1'!AK14+'Каналы продукт 2'!AK14+'Каналы продукт 3'!AK14 | AJ14: ='Каналы продукт 1'!AL14+'Каналы продукт 2'!AL14+'Каналы продукт 3'!AL14 | AK14: ='Каналы продукт 1'!AM14+'Каналы продукт 2'!AM14+'Каналы продукт 3'!AM14 | AP14: =AR14+AT14+AV14+AX14+AZ14 | AQ14: =AS14+AU14+AW14+AY14+BA14 | AR14: ='Каналы продукт 1'!AT14+'Каналы продукт 2'!AT14+'Каналы продукт 3'!AT14 | AS14: ='Каналы продукт 1'!AU14+'Каналы продукт 2'!AU14+'Каналы продукт 3'!AU14 | AT14: ='Каналы продукт 1'!AV14+'Каналы продукт 2'!AV14+'Каналы продукт 3'!AV14 | AU14: ='Каналы продукт 1'!AW14+'Каналы продукт 2'!AW14+'Каналы продукт 3'!AW14 | AV14: ='Каналы продукт 1'!AX14+'Каналы продукт 2'!AX14+'Каналы продукт 3'!AX14 | AW14: ='Каналы продукт 1'!AY14+'Каналы продукт 2'!AY14+'Каналы продукт 3'!AY14 | AX14: ='Каналы продукт 1'!AZ14+'Каналы продукт 2'!AZ14+'Каналы продукт 3'!AZ14 | AY14: ='Каналы продукт 1'!BA14+'Каналы продукт 2'!BA14+'Каналы продукт 3'!BA14 | ... BA14: ='Каналы продукт 1'!BC14+'Каналы продукт 2'!BC14+'Каналы продукт 3'!BC14
A15: Рассылки по нашей базе | D15: =SUM(N15,AB15,AP15,BF15,BR15,CD15) | E15: =SUM(O15,AC15,AQ15,BG15,BS15,CE15) | H15: =N15+AB15+AP15 | I15: =O15+AC15+AQ15 | L15: =BF15+BR15+CD15 | M15: =BG15+BS15+CE15 | N15: =P15+R15+T15+V15+X15 | O15: =Q15+S15+U15+Y15 | P15: 0 | Q15: 0 | R15: 0 | S15: 0 | T15: 0 | U15: 0 | V15: 0 | W15: 0 | X15: 0 | Y15: 0 | AB15: =AD15+AF15+AH15+AJ15+AL15 | AC15: =AE15+AG15+AI15+AM15 | AD15: ='Каналы продукт 1'!AF15+'Каналы продукт 2'!AF15+'Каналы продукт 3'!AF15 | AE15: ='Каналы продукт 1'!AG15+'Каналы продукт 2'!AG15+'Каналы продукт 3'!AG15 | AF15: ='Каналы продукт 1'!AH15+'Каналы продукт 2'!AH15+'Каналы продукт 3'!AH15 | AG15: ='Каналы продукт 1'!AI15+'Каналы продукт 2'!AI15+'Каналы продукт 3'!AI15 | AH15: ='Каналы продукт 1'!AJ15+'Каналы продукт 2'!AJ15+'Каналы продукт 3'!AJ15 | AI15: ='Каналы продукт 1'!AK15+'Каналы продукт 2'!AK15+'Каналы продукт 3'!AK15 | AJ15: ='Каналы продукт 1'!AL15+'Каналы продукт 2'!AL15+'Каналы продукт 3'!AL15 | AK15: ='Каналы продукт 1'!AM15+'Каналы продукт 2'!AM15+'Каналы продукт 3'!AM15 | AP15: =AR15+AT15+AV15+AX15+AZ15 | AQ15: =AS15+AU15+AW15+AY15+BA15 | AR15: ='Каналы продукт 1'!AT15+'Каналы продукт 2'!AT15+'Каналы продукт 3'!AT15 | AS15: ='Каналы продукт 1'!AU15+'Каналы продукт 2'!AU15+'Каналы продукт 3'!AU15 | AT15: ='Каналы продукт 1'!AV15+'Каналы продукт 2'!AV15+'Каналы продукт 3'!AV15 | AU15: ='Каналы продукт 1'!AW15+'Каналы продукт 2'!AW15+'Каналы продукт 3'!AW15 | AV15: ='Каналы продукт 1'!AX15+'Каналы продукт 2'!AX15+'Каналы продукт 3'!AX15 | AW15: ='Каналы продукт 1'!AY15+'Каналы продукт 2'!AY15+'Каналы продукт 3'!AY15 | AX15: ='Каналы продукт 1'!AZ15+'Каналы продукт 2'!AZ15+'Каналы продукт 3'!AZ15 | AY15: ='Каналы продукт 1'!BA15+'Каналы продукт 2'!BA15+'Каналы продукт 3'!BA15 | ... BA15: ='Каналы продукт 1'!BC15+'Каналы продукт 2'!BC15+'Каналы продукт 3'!BC15
A16: Рассылки по холодной базе | D16: =SUM(N16,AB16,AP16,BF16,BR16,CD16) | E16: =SUM(O16,AC16,AQ16,BG16,BS16,CE16) | H16: =N16+AB16+AP16 | I16: =O16+AC16+AQ16 | L16: =BF16+BR16+CD16 | M16: =BG16+BS16+CE16 | N16: =P16+R16+T16+V16+X16 | O16: =Q16+S16+U16+Y16 | P16: 0 | Q16: 0 | R16: 0 | S16: 0 | T16: 0 | U16: 0 | V16: 0 | W16: 0 | X16: 0 | Y16: 0 | AB16: =AD16+AF16+AH16+AJ16+AL16 | AC16: =AE16+AG16+AI16+AM16 | AD16: ='Каналы продукт 1'!AF16+'Каналы продукт 2'!AF16+'Каналы продукт 3'!AF16 | AE16: ='Каналы продукт 1'!AG16+'Каналы продукт 2'!AG16+'Каналы продукт 3'!AG16 | AF16: ='Каналы продукт 1'!AH16+'Каналы продукт 2'!AH16+'Каналы продукт 3'!AH16 | AG16: ='Каналы продукт 1'!AI16+'Каналы продукт 2'!AI16+'Каналы продукт 3'!AI16 | AH16: ='Каналы продукт 1'!AJ16+'Каналы продукт 2'!AJ16+'Каналы продукт 3'!AJ16 | AI16: ='Каналы продукт 1'!AK16+'Каналы продукт 2'!AK16+'Каналы продукт 3'!AK16 | AJ16: ='Каналы продукт 1'!AL16+'Каналы продукт 2'!AL16+'Каналы продукт 3'!AL16 | AK16: ='Каналы продукт 1'!AM16+'Каналы продукт 2'!AM16+'Каналы продукт 3'!AM16 | AP16: =AR16+AT16+AV16+AX16+AZ16 | AQ16: =AS16+AU16+AW16+AY16+BA16 | AR16: ='Каналы продукт 1'!AT16+'Каналы продукт 2'!AT16+'Каналы продукт 3'!AT16 | AS16: ='Каналы продукт 1'!AU16+'Каналы продукт 2'!AU16+'Каналы продукт 3'!AU16 | AT16: ='Каналы продукт 1'!AV16+'Каналы продукт 2'!AV16+'Каналы продукт 3'!AV16 | AU16: ='Каналы продукт 1'!AW16+'Каналы продукт 2'!AW16+'Каналы продукт 3'!AW16 | AV16: ='Каналы продукт 1'!AX16+'Каналы продукт 2'!AX16+'Каналы продукт 3'!AX16 | AW16: ='Каналы продукт 1'!AY16+'Каналы продукт 2'!AY16+'Каналы продукт 3'!AY16 | AX16: ='Каналы продукт 1'!AZ16+'Каналы продукт 2'!AZ16+'Каналы продукт 3'!AZ16 | AY16: ='Каналы продукт 1'!BA16+'Каналы продукт 2'!BA16+'Каналы продукт 3'!BA16 | ... BA16: ='Каналы продукт 1'!BC16+'Каналы продукт 2'!BC16+'Каналы продукт 3'!BC16
A17: Входящий звонок | D17: =SUM(N17,AB17,AP17,BF17,BR17,CD17) | E17: =SUM(O17,AC17,AQ17,BG17,BS17,CE17) | H17: =N17+AB17+AP17 | I17: =O17+AC17+AQ17 | L17: =BF17+BR17+CD17 | M17: =BG17+BS17+CE17 | N17: =P17+R17+T17+V17+X17 | O17: =Q17+S17+U17+Y17 | P17: 0 | Q17: 0 | R17: 0 | S17: 0 | T17: 0 | U17: 0 | V17: 0 | W17: 0 | X17: 0 | Y17: 0 | AB17: =AD17+AF17+AH17+AJ17+AL17 | AC17: =AE17+AG17+AI17+AM17 | AD17: ='Каналы продукт 1'!AF17+'Каналы продукт 2'!AF17+'Каналы продукт 3'!AF17 | AE17: ='Каналы продукт 1'!AG17+'Каналы продукт 2'!AG17+'Каналы продукт 3'!AG17 | AF17: ='Каналы продукт 1'!AH17+'Каналы продукт 2'!AH17+'Каналы продукт 3'!AH17 | AG17: ='Каналы продукт 1'!AI17+'Каналы продукт 2'!AI17+'Каналы продукт 3'!AI17 | AH17: ='Каналы продукт 1'!AJ17+'Каналы продукт 2'!AJ17+'Каналы продукт 3'!AJ17 | AI17: ='Каналы продукт 1'!AK17+'Каналы продукт 2'!AK17+'Каналы продукт 3'!AK17 | AJ17: ='Каналы продукт 1'!AL17+'Каналы продукт 2'!AL17+'Каналы продукт 3'!AL17 | AK17: ='Каналы продукт 1'!AM17+'Каналы продукт 2'!AM17+'Каналы продукт 3'!AM17 | AP17: =AR17+AT17+AV17+AX17+AZ17 | AQ17: =AS17+AU17+AW17+AY17+BA17 | AR17: ='Каналы продукт 1'!AT17+'Каналы продукт 2'!AT17+'Каналы продукт 3'!AT17 | AS17: ='Каналы продукт 1'!AU17+'Каналы продукт 2'!AU17+'Каналы продукт 3'!AU17 | AT17: ='Каналы продукт 1'!AV17+'Каналы продукт 2'!AV17+'Каналы продукт 3'!AV17 | AU17: ='Каналы продукт 1'!AW17+'Каналы продукт 2'!AW17+'Каналы продукт 3'!AW17 | AV17: ='Каналы продукт 1'!AX17+'Каналы продукт 2'!AX17+'Каналы продукт 3'!AX17 | AW17: ='Каналы продукт 1'!AY17+'Каналы продукт 2'!AY17+'Каналы продукт 3'!AY17 | AX17: ='Каналы продукт 1'!AZ17+'Каналы продукт 2'!AZ17+'Каналы продукт 3'!AZ17 | AY17: ='Каналы продукт 1'!BA17+'Каналы продукт 2'!BA17+'Каналы продукт 3'!BA17 | ... BA17: ='Каналы продукт 1'!BC17+'Каналы продукт 2'!BC17+'Каналы продукт 3'!BC17
A18: Входящая почта sales | D18: =SUM(N18,AB18,AP18,BF18,BR18,CD18) | E18: =SUM(O18,AC18,AQ18,BG18,BS18,CE18) | H18: =N18+AB18+AP18 | I18: =O18+AC18+AQ18 | L18: =BF18+BR18+CD18 | M18: =BG18+BS18+CE18 | N18: =P18+R18+T18+V18+X18 | O18: =Q18+S18+U18+Y18 | P18: 0 | Q18: 0 | R18: 0 | S18: 0 | T18: 0 | U18: 0 | V18: 0 | W18: 0 | X18: 1 | Y18: 1 | AB18: =AD18+AF18+AH18+AJ18+AL18 | AC18: =AE18+AG18+AI18+AM18 | AD18: ='Каналы продукт 1'!AF18+'Каналы продукт 2'!AF18+'Каналы продукт 3'!AF18 | AE18: ='Каналы продукт 1'!AG18+'Каналы продукт 2'!AG18+'Каналы продукт 3'!AG18 | AF18: ='Каналы продукт 1'!AH18+'Каналы продукт 2'!AH18+'Каналы продукт 3'!AH18 | AG18: ='Каналы продукт 1'!AI18+'Каналы продукт 2'!AI18+'Каналы продукт 3'!AI18 | AH18: ='Каналы продукт 1'!AJ18+'Каналы продукт 2'!AJ18+'Каналы продукт 3'!AJ18 | AI18: ='Каналы продукт 1'!AK18+'Каналы продукт 2'!AK18+'Каналы продукт 3'!AK18 | AJ18: ='Каналы продукт 1'!AL18+'Каналы продукт 2'!AL18+'Каналы продукт 3'!AL18 | AK18: ='Каналы продукт 1'!AM18+'Каналы продукт 2'!AM18+'Каналы продукт 3'!AM18 | AP18: =AR18+AT18+AV18+AX18+AZ18 | AQ18: =AS18+AU18+AW18+AY18+BA18 | AR18: ='Каналы продукт 1'!AT18+'Каналы продукт 2'!AT18+'Каналы продукт 3'!AT18 | AS18: ='Каналы продукт 1'!AU18+'Каналы продукт 2'!AU18+'Каналы продукт 3'!AU18 | AT18: ='Каналы продукт 1'!AV18+'Каналы продукт 2'!AV18+'Каналы продукт 3'!AV18 | AU18: ='Каналы продукт 1'!AW18+'Каналы продукт 2'!AW18+'Каналы продукт 3'!AW18 | AV18: ='Каналы продукт 1'!AX18+'Каналы продукт 2'!AX18+'Каналы продукт 3'!AX18 | AW18: ='Каналы продукт 1'!AY18+'Каналы продукт 2'!AY18+'Каналы продукт 3'!AY18 | AX18: ='Каналы продукт 1'!AZ18+'Каналы продукт 2'!AZ18+'Каналы продукт 3'!AZ18 | AY18: ='Каналы продукт 1'!BA18+'Каналы продукт 2'!BA18+'Каналы продукт 3'!BA18 | ... BA18: ='Каналы продукт 1'!BC18+'Каналы продукт 2'!BC18+'Каналы продукт 3'!BC18
... A20: Неизвестно | D20: =SUM(N20,AB20,AP20,BF20,BR20,CD20) | E20: =SUM(O20,AC20,AQ20,BG20,BS20,CE20) | H20: =N20+AB20+AP20 | I20: =O20+AC20+AQ20 | L20: =BF20+BR20+CD20 | M20: =BG20+BS20+CE20 | N20: =P20+R20+T20+V20+X20 | O20: =Q20+S20+U20+Y20 | P20: 0 | Q20: 0 | R20: 0 | S20: 0 | T20: 1 | U20: 1 | V20: 0 | W20: 0 | X20: 0 | Y20: 0 | AB20: =AD20+AF20+AH20+AJ20+AL20 | AC20: =AE20+AG20+AI20+AM20 | AD20: ='Каналы продукт 1'!AF20+'Каналы продукт 2'!AF20+'Каналы продукт 3'!AF20 | AE20: ='Каналы продукт 1'!AG20+'Каналы продукт 2'!AG20+'Каналы продукт 3'!AG20 | AF20: ='Каналы продукт 1'!AH20+'Каналы продукт 2'!AH20+'Каналы продукт 3'!AH20 | AG20: ='Каналы продукт 1'!AI20+'Каналы продукт 2'!AI20+'Каналы продукт 3'!AI20 | AH20: ='Каналы продукт 1'!AJ20+'Каналы продукт 2'!AJ20+'Каналы продукт 3'!AJ20 | AI20: ='Каналы продукт 1'!AK20+'Каналы продукт 2'!AK20+'Каналы продукт 3'!AK20 | AJ20: ='Каналы продукт 1'!AL20+'Каналы продукт 2'!AL20+'Каналы продукт 3'!AL20 | AK20: ='Каналы продукт 1'!AM20+'Каналы продукт 2'!AM20+'Каналы продукт 3'!AM20 | AP20: =AR20+AT20+AV20+AX20+AZ20 | AQ20: =AS20+AU20+AW20+AY20+BA20 | AR20: ='Каналы продукт 1'!AT20+'Каналы продукт 2'!AT20+'Каналы продукт 3'!AT20 | AS20: ='Каналы продукт 1'!AU20+'Каналы продукт 2'!AU20+'Каналы продукт 3'!AU20 | AT20: ='Каналы продукт 1'!AV20+'Каналы продукт 2'!AV20+'Каналы продукт 3'!AV20 | AU20: ='Каналы продукт 1'!AW20+'Каналы продукт 2'!AW20+'Каналы продукт 3'!AW20 | AV20: ='Каналы продукт 1'!AX20+'Каналы продукт 2'!AX20+'Каналы продукт 3'!AX20 | AW20: ='Каналы продукт 1'!AY20+'Каналы продукт 2'!AY20+'Каналы продукт 3'!AY20 | AX20: ='Каналы продукт 1'!AZ20+'Каналы продукт 2'!AZ20+'Каналы продукт 3'!AZ20 | AY20: ='Каналы продукт 1'!BA20+'Каналы продукт 2'!BA20+'Каналы продукт 3'!BA20 | ... BA20: ='Каналы продукт 1'!BC20+'Каналы продукт 2'!BC20+'Каналы продукт 3'!BC20
A22: Расходы | B22: Квота | D22: Факт | F22: Квота | H22: Факт | J22: Квота | L22: Факт | N22: Факт | P22: 30.06 - 06.07 | R22: 07.07 - 13.07 | T22: 14.07 - 20.07 | V22: 21.07 - 27.07 | X22: 28.07 - 03.08 | Z22: План | AB22: Факт | AD22: 04.08 - 10.08 | AF22: 11.08 - 17.08 | AH22: 18.08 - 24.08 | AJ22: 25.08 - 31.08 | AN22: Квота | AP22: Факт | AR22: 01-07.09 | AT22: 08.09 - 14.09 | AV22: 15.09 - 21.09 | AX22: 22.09 - 28.09 | AZ22: 29.09 - 05.10 | BB22: 45930 | BD22: Квота | BF22: Факт | BH22: 06.10 - 12.10 | BJ22: 13.10 - 19.10 | BL22: 20.10 - 26.10 | BN22: 27.10 - 02.11 | BP22: Квота | BR22: Факт | BT22: 03.11 - 09.11 | BV22: 10.11 - 16.11 | BX22: 17.11 - 23.11 | BZ22: 24.11 - 30.11 | CB22: Квота | CD22: Факт | CF22: 01.12 - 07.12 | CH22: 08.12 - 14.12 | CJ22: 15.12 - 21.12 | CL22: 22.12 - 28.12 | CN22: 29.12 - 30.12
A23: Всего на платное продвижение: | B23: ='Продукт 2'!Z11+'Продукт 3'!Z11 | D23: =SUM(X23,AL23,AZ23,BN23,BZ23,CJ23) | F23: =0+Z23+AN23 | H23: =N23+AB23+AP23 | J23: =BD23+BP23+CB23 | L23: =BF23+BR23+CD23 | N23: =SUM(N26:O36) | P23: =SUM(P33:Q49) | R23: =SUM(R33:S49) | T23: =SUM(T33:U49) | V23: =SUM(V33:W49) | X23: =SUM(X33:Y49) | Z23: ='Бюджет'!B6 | AB23: =AB24+AB25 | AD23: =SUM(AD26:AE36) | AF23: =SUM(AF33:AG49) | AH23: =SUM(AH33:AI49) | AJ23: =SUM(AJ33:AK49) | AN23: 380000 | AP23: =SUM(AP26:AQ36) | AR23: =SUM(AR26:AS36) | AT23: =SUM(AT26:AU36) | AV23: =SUM(AV26:AW36) | AX23: =SUM(AX26:AY36) | AZ23: =SUM(AZ26:BA36) | BB23: =SUM(BB33:BC49) | BD23: 380000 | BF23: =SUM(BF26:BG36) | BH23: =SUM(BH33:BI49) | BJ23: =SUM(BJ33:BK49) | BL23: =SUM(BL33:BM49) | BN23: =SUM(BN33:BO49) | BP23: 380000 | BR23: =SUM(BR26:BS36) | BT23: =SUM(BT33:BU49) | BV23: =SUM(BV33:BW49) | BX23: =SUM(BX33:BY49) | BZ23: =SUM(BZ33:CA49) | CB23: 380000 | CD23: =SUM(CD26:CE36)
A24: Всего на лидогенерацию: | B24: =B23*0.7 | D24: =SUM(D26:E36) | F24: =F23*0.7 | H24: =SUM(H26:I36) | J24: =J23*0.7 | L24: =SUM(L26:M36) | N24: =SUM(P24:Y24) | P24: =SUM(P26:Q34) | R24: =SUM(R26:S34) | T24: =SUM(T26:U34) | V24: =SUM(V26:W34) | X24: =SUM(X26:Y34) | Z24: ='Бюджет'!B4 | AB24: =SUM(AB26:AC34) | AD24: =SUM(AD26:AE34) | AF24: =SUM(AF26:AG34) | AH24: =SUM(AH26:AI34) | AJ24: =SUM(AJ26:AK34) | AN24: =AN23*0.7 | AP24: =SUM(AR24:BA24) | BB24: =SUM(BB36,0,BB33,BB32,BB29,BB27,BB263,BB34,BB26) | BD24: =BD23*0.7 | BF24: =SUM(BF26:BG34) | BH24: =SUM(BH36,0,BH33,BH32,BH29,BH27,BH263,BH34,BH26) | BJ24: =SUM(BJ36,0,BJ33,BJ32,BJ29,BJ27,BJ263,BJ34,BJ26) | BL24: =SUM(BL36,0,BL33,BL32,BL29,BL27,BL263,BL34,BL26) | BN24: =SUM(BN36,0,BN33,BN32,BN29,BN27,BN263,BN34,BN26) | BP24: =BP23*0.7 | BR24: =SUM(BR26:BS34) | BT24: =SUM(BT36,0,BT33,BT32,BT29,BT27,BT263,BT34,BT26) | BV24: =SUM(BV36,0,BV33,BV32,BV29,BV27,BV263,BV34,BV26) | BX24: =SUM(BX36,0,BX33,BX32,BX29,BX27,BX263,BX34,BX26) | BZ24: =SUM(BZ36,0,BZ33,BZ32,BZ29,BZ27,BZ263,BZ34,BZ26) | CB24: =CB23*0.7 | CD24: =SUM(CD26:CE34)
A25: Всего на мероприятия+СМИ: | B25: =B23*0.3 | D25: =SUM(X25,AL25,AZ25,BN25,BZ25,CJ25) | F25: =F23*0.3 | J25: =J23*0.3 | N25: =N36 | P25: =P36 | R25: =R36 | T25: =T36 | V25: =V36 | X25: =X36 | Z25: ='Бюджет'!B5 | AB25: =AB35+AB36 | AD25: =AD35+AD36 | AF25: =AF35+AF36 | AH25: =AH35+AH36 | AJ25: =AJ35+AJ36 | AN25: =AN23*0.3 | AP25: =AP36 | BD25: =BD23*0.3 | BF25: =BF36 | BP25: =BP23*0.3 | BR25: =BR36 | CB25: =CB23*0.3 | CD25: =CD36
A26: Яндекс Директ | D26: =SUM(N26,AB26,AP26,BF26,BR26,CD26) | H26: =N26+AB26+AP26 | J26: =BD26+BP26+CB26 | L26: =BF26+BR26+CD26 | N26: =SUM(P26:Y26) | P26: 40342.2 | R26: 65705.17 | T26: 27558 | V26: 11500.42 | X26: 182.51 | AB26: =SUM(AD26:AK26) | AD26: ='Каналы продукт 1'!AF26+'Каналы продукт 2'!AF26+'Каналы продукт 3'!AF26 | AF26: ='Каналы продукт 1'!AH26+'Каналы продукт 2'!AH26+'Каналы продукт 3'!AH26 | AH26: ='Каналы продукт 1'!AJ26+'Каналы продукт 2'!AJ26+'Каналы продукт 3'!AJ26 | AJ26: ='Каналы продукт 1'!AL26+'Каналы продукт 2'!AL26+'Каналы продукт 3'!AL26 | AP26: =SUM(AR26:BC26) | AR26: ='Каналы продукт 1'!AT26+'Каналы продукт 2'!AT26+'Каналы продукт 3'!AT26 | AT26: ='Каналы продукт 1'!AV26+'Каналы продукт 2'!AV26+'Каналы продукт 3'!AV26 | AV26: ='Каналы продукт 1'!AX26+'Каналы продукт 2'!AX26+'Каналы продукт 3'!AX26 | AX26: ='Каналы продукт 1'!AZ26+'Каналы продукт 2'!AZ26+'Каналы продукт 3'!AZ26 | AZ26: ='Каналы продукт 1'!BB26+'Каналы продукт 2'!BB26+'Каналы продукт 3'!BB26
A27: VK ADS | D27: =SUM(N27,AB27,AP27,BF27,BR27,CD27) | H27: =N27+AB27+AP27 | J27: =BD27+BP27+CB27 | L27: =BF27+BR27+CD27 | N27: =SUM(P27:Y27) | V27: 0 | AB27: =SUM(AD27:AK27) | AD27: ='Каналы продукт 1'!AF27+'Каналы продукт 2'!AF27+'Каналы продукт 3'!AF27 | AF27: ='Каналы продукт 1'!AH27+'Каналы продукт 2'!AH27+'Каналы продукт 3'!AH27 | AH27: ='Каналы продукт 1'!AJ27+'Каналы продукт 2'!AJ27+'Каналы продукт 3'!AJ27 | AJ27: ='Каналы продукт 1'!AL27+'Каналы продукт 2'!AL27+'Каналы продукт 3'!AL27 | AP27: =SUM(AR27:BC27) | AR27: ='Каналы продукт 1'!AT27+'Каналы продукт 2'!AT27+'Каналы продукт 3'!AT27 | AT27: ='Каналы продукт 1'!AV27+'Каналы продукт 2'!AV27+'Каналы продукт 3'!AV27
A28: VK Adblogger | D28: =SUM(N28,AB28,AP28,BF28,BR28,CD28) | H28: =N28+AB28+AP28 | J28: =BD28+BP28+CB28 | L28: =BF28+BR28+CD28 | N28: =SUM(P28:Y28) | V28: 0 | AB28: =SUM(AD28:AK28) | AD28: ='Каналы продукт 1'!AF28+'Каналы продукт 2'!AF28+'Каналы продукт 3'!AF28 | AF28: ='Каналы продукт 1'!AH28+'Каналы продукт 2'!AH28+'Каналы продукт 3'!AH28 | AH28: ='Каналы продукт 1'!AJ28+'Каналы продукт 2'!AJ28+'Каналы продукт 3'!AJ28 | AJ28: ='Каналы продукт 1'!AL28+'Каналы продукт 2'!AL28+'Каналы продукт 3'!AL28 | AP28: =SUM(AR28:BC28) | AR28: ='Каналы продукт 1'!AT28+'Каналы продукт 2'!AT28+'Каналы продукт 3'!AT28 | AT28: ='Каналы продукт 1'!AV28+'Каналы продукт 2'!AV28+'Каналы продукт 3'!AV28
A29: TG ADS | D29: =SUM(N29,AB29,AP29,BF29,BR29,CD29) | H29: =N29+AB29+AP29 | J29: =BD29+BP29+CB29 | L29: =BF29+BR29+CD29 | N29: =SUM(P29:Y29) | V29: 0 | AB29: =SUM(AD29:AK29) | AD29: ='Каналы продукт 1'!AF29+'Каналы продукт 2'!AF29+'Каналы продукт 3'!AF29 | AF29: ='Каналы продукт 1'!AH29+'Каналы продукт 2'!AH29+'Каналы продукт 3'!AH29 | AH29: ='Каналы продукт 1'!AJ29+'Каналы продукт 2'!AJ29+'Каналы продукт 3'!AJ29 | AJ29: ='Каналы продукт 1'!AL29+'Каналы продукт 2'!AL29+'Каналы продукт 3'!AL29 | AP29: =SUM(AR29:BC29) | AR29: ='Каналы продукт 1'!AT29+'Каналы продукт 2'!AT29+'Каналы продукт 3'!AT29 | AT29: ='Каналы продукт 1'!AV29+'Каналы продукт 2'!AV29+'Каналы продукт 3'!AV29
A30: TG Посевы | D30: =SUM(N30,AB30,AP30,BF30,BR30,CD30) | H30: =N30+AB30+AP30 | J30: =BD30+BP30+CB30 | L30: =BF30+BR30+CD30 | N30: =SUM(P30:Y30) | V30: 0 | AB30: =SUM(AD30:AK30) | AD30: ='Каналы продукт 1'!AF30+'Каналы продукт 2'!AF30+'Каналы продукт 3'!AF30 | AF30: ='Каналы продукт 1'!AH30+'Каналы продукт 2'!AH30+'Каналы продукт 3'!AH30 | AH30: ='Каналы продукт 1'!AJ30+'Каналы продукт 2'!AJ30+'Каналы продукт 3'!AJ30 | AJ30: ='Каналы продукт 1'!AL30+'Каналы продукт 2'!AL30+'Каналы продукт 3'!AL30 | AP30: =SUM(AR30:BC30) | AR30: ='Каналы продукт 1'!AT30+'Каналы продукт 2'!AT30+'Каналы продукт 3'!AT30 | AT30: ='Каналы продукт 1'!AV30+'Каналы продукт 2'!AV30+'Каналы продукт 3'!AV30
A31: Теплые рассылки | D31: =SUM(N31,AB31,AP31,BF31,BR31,CD31) | H31: =N31+AB31+AP31 | J31: =BD31+BP31+CB31 | L31: =BF31+BR31+CD31 | N31: =SUM(P31:Y31) | V31: 0 | AB31: =SUM(AD31:AK31) | AD31: ='Каналы продукт 1'!AF31+'Каналы продукт 2'!AF31+'Каналы продукт 3'!AF31 | AF31: ='Каналы продукт 1'!AH31+'Каналы продукт 2'!AH31+'Каналы продукт 3'!AH31 | AH31: ='Каналы продукт 1'!AJ31+'Каналы продукт 2'!AJ31+'Каналы продукт 3'!AJ31 | AJ31: ='Каналы продукт 1'!AL31+'Каналы продукт 2'!AL31+'Каналы продукт 3'!AL31 | AP31: =SUM(AR31:BC31) | AR31: ='Каналы продукт 1'!AT31+'Каналы продукт 2'!AT31+'Каналы продукт 3'!AT31 | AT31: ='Каналы продукт 1'!AV31+'Каналы продукт 2'!AV31+'Каналы продукт 3'!AV31
A32: Холодные рассылки | D32: =SUM(N32,AB32,AP32,BF32,BR32,CD32) | H32: =N32+AB32+AP32 | J32: =BD32+BP32+CB32 | L32: =BF32+BR32+CD32 | N32: =SUM(P32:Y32) | V32: 0 | AB32: =SUM(AD32:AK32) | AD32: ='Каналы продукт 1'!AF32+'Каналы продукт 2'!AF32+'Каналы продукт 3'!AF32 | AF32: ='Каналы продукт 1'!AH32+'Каналы продукт 2'!AH32+'Каналы продукт 3'!AH32 | AH32: ='Каналы продукт 1'!AJ32+'Каналы продукт 2'!AJ32+'Каналы продукт 3'!AJ32 | AJ32: ='Каналы продукт 1'!AL32+'Каналы продукт 2'!AL32+'Каналы продукт 3'!AL32 | AP32: =SUM(AR32:BC32) | AR32: ='Каналы продукт 1'!AT32+'Каналы продукт 2'!AT32+'Каналы продукт 3'!AT32 | AT32: ='Каналы продукт 1'!AV32+'Каналы продукт 2'!AV32+'Каналы продукт 3'!AV32
A33: SEO | D33: =SUM(N33,AB33,AP33,BF33,BR33,CD33) | H33: =N33+AB33+AP33 | J33: =BD33+BP33+CB33 | L33: =BF33+BR33+CD33 | N33: =SUM(P33:Y33) | V33: 0 | AB33: =SUM(AD33:AK33) | AD33: ='Каналы продукт 1'!AF33+'Каналы продукт 2'!AF33+'Каналы продукт 3'!AF33 | AF33: ='Каналы продукт 1'!AH33+'Каналы продукт 2'!AH33+'Каналы продукт 3'!AH33 | AH33: ='Каналы продукт 1'!AJ33+'Каналы продукт 2'!AJ33+'Каналы продукт 3'!AJ33 | AJ33: ='Каналы продукт 1'!AL33+'Каналы продукт 2'!AL33+'Каналы продукт 3'!AL33 | AP33: =SUM(AR33:BC33) | AR33: ='Каналы продукт 1'!AT33+'Каналы продукт 2'!AT33+'Каналы продукт 3'!AT33 | AT33: ='Каналы продукт 1'!AV33+'Каналы продукт 2'!AV33+'Каналы продукт 3'!AV33
A34: Анонсы, баннеры на сайтах | D34: =SUM(N34,AB34,AP34,BF34,BR34,CD34) | H34: =N34+AB34+AP34 | J34: =BD34+BP34+CB34 | L34: =BF34+BR34+CD34 | N34: =SUM(P34:Y34) | V34: 0 | AB34: =SUM(AD34:AK34) | AD34: ='Каналы продукт 1'!AF34+'Каналы продукт 2'!AF34+'Каналы продукт 3'!AF34 | AF34: ='Каналы продукт 1'!AH34+'Каналы продукт 2'!AH34+'Каналы продукт 3'!AH34 | AH34: ='Каналы продукт 1'!AJ34+'Каналы продукт 2'!AJ34+'Каналы продукт 3'!AJ34 | AJ34: ='Каналы продукт 1'!AL34+'Каналы продукт 2'!AL34+'Каналы продукт 3'!AL34 | AP34: =SUM(AR34:BC34) | AR34: ='Каналы продукт 1'!AT34+'Каналы продукт 2'!AT34+'Каналы продукт 3'!AT34 | AT34: ='Каналы продукт 1'!AV34+'Каналы продукт 2'!AV34+'Каналы продукт 3'!AV34
A35: СМИ | N35: =SUM(P35:Y35) | AB35: =SUM(AD35:AK35) | AD35: ='Каналы продукт 1'!AF35+'Каналы продукт 2'!AF35+'Каналы продукт 3'!AF35 | AF35: ='Каналы продукт 1'!AH35+'Каналы продукт 2'!AH35+'Каналы продукт 3'!AH35 | AH35: ='Каналы продукт 1'!AJ35+'Каналы продукт 2'!AJ35+'Каналы продукт 3'!AJ35 | AJ35: ='Каналы продукт 1'!AL35+'Каналы продукт 2'!AL35+'Каналы продукт 3'!AL35 | AP35: =SUM(AR35:BC35) | AR35: ='Каналы продукт 1'!AT35+'Каналы продукт 2'!AT35+'Каналы продукт 3'!AT35 | AT35: ='Каналы продукт 1'!AV35+'Каналы продукт 2'!AV35+'Каналы продукт 3'!AV35
A36: Мероприятия | D36: =SUM(N36,AB36,AP36,BF36,BR36,CD36) | H36: =N36+AB36+AP36 | J36: =BD36+BP36+CB36 | L36: =BF36+BR36+CD36 | N36: =SUM(P36:Y36) | P36: 20000 | V36: 0 | AB36: =SUM(AD36:AK36) | AD36: ='Каналы продукт 1'!AF36+'Каналы продукт 2'!AF36+'Каналы продукт 3'!AF36 | AF36: ='Каналы продукт 1'!AH36+'Каналы продукт 2'!AH36+'Каналы продукт 3'!AH36 | AH36: ='Каналы продукт 1'!AJ36+'Каналы продукт 2'!AJ36+'Каналы продукт 3'!AJ36 | AJ36: ='Каналы продукт 1'!AL36+'Каналы продукт 2'!AL36+'Каналы продукт 3'!AL36 | AP36: =SUM(AR36:BC36) | AR36: ='Каналы продукт 1'!AT36+'Каналы продукт 2'!AT36+'Каналы продукт 3'!AT36 | AT36: ='Каналы продукт 1'!AV36+'Каналы продукт 2'!AV36+'Каналы продукт 3'!AV36
B37: Квота | D37: Факт | F37: Квота | H37: Факт | J37: Квота | L37: Факт | N37: Факт | P37: 30.06 - 06.07 | R37: 07.07 - 13.07 | T37: 14.07 - 20.07 | V37: 21.07 - 27.07 | X37: 28.07 - 03.08 | Z37: Квота | AB37: Факт | AD37: 01.08 - 04.08 | AF37: 05.08 - 11.08 | AH37: 12.08 - 18.08 | AJ37: 19.08 - 25.08 | AN37: Квота | AP37: Факт | AR37: 01-07.09 | AT37: 08.09 - 14.09 | AV37: 15.09 - 21.09 | AX37: 22.09 - 28.09 | AZ37: 29.09 - 05.10 | BB37: 45930 | BD37: Квота | BF37: Факт | BH37: 01.10 - 06.10 | BJ37: 07.10 - 13.10 | BL37: 14.10 - 20.10 | BN37: 21.10 - 27.10 | BP37: Квота | BR37: Факт | BT37: 01.11 - 03.11 | BV37: 04.11 - 10.11 | BX37: 11.11 - 17.11 | BZ37: 18.11 - 24.11 | CB37: Квота | CD37: Факт
A38: Всего на сервисные расходы: | B38: =SUM(B39:C48) | D38: =SUM(D39:E48) | F38: =0+Z38+AN38 | H38: =N38+AB38+AP38 | J38: =BD38+BP38+CB38 | L38: =BF38+BR38+CD38 | N38: =SUM(N39:O48) | P38: =SUM(P39:Q48) | R38: =SUM(R39:S48) | T38: =SUM(T39:U48) | V38: =SUM(V39:W48) | X38: =SUM(X39:Y48) | Z38: =('Продукт 2'!Z6+'Продукт 3'!Z6)*0.05 | AB38: =SUM(AB39:AC48) | AD38: =SUM(AD39:AE48) | AF38: =SUM(AF39:AG48) | AH38: =SUM(AH39:AI48) | AJ38: =SUM(AJ39:AK48) | AN38: =('Продукт 2'!Z7+'Продукт 3'!Z7)*0.05 | AP38: =SUM(AP39:AQ48) | AR38: =SUM(AR39:AS48) | AT38: =SUM(AT39:AU48) | AV38: =SUM(AV39:AW48) | AX38: =SUM(AX39:AY48) | AZ38: =SUM(AZ39:BA48) | BB38: =SUM(BB39:BC48) | BD38: =('Продукт 2'!Z8+'Продукт 3'!Z8)*0.05 | BF38: =SUM(BF39:BG48) | BH38: =SUM(BH39:BI48) | BJ38: =SUM(BJ39:BK48) | BL38: =SUM(BL39:BM48) | BN38: =SUM(BN39:BO48) | BP38: =SUM(BP39:BQ48) | BR38: =SUM(BR39:BS48) | BT38: =SUM(BT39:BU48) | BV38: =SUM(BV39:BW48) | BX38: =SUM(BX39:BY48) | BZ38: =SUM(BZ39:CA48) | CB38: =SUM(CB39:CC48) | CD38: =SUM(CD39:CE48)
A39: Топвизор | B39: =SUM(0,Z39,AN39,BD39,BP39,CB39) | D39: =SUM(N39,AB39,AP39,BF39,BR39,CD39) | F39: =0+Z39+AN39 | H39: =N39+AB39+AP39 | J39: =BD39+BP39+CB39 | L39: =BF39+BR39+CD39 | N39: =SUM(P39:Y39) | V39: 0 | Z39: 0 | AB39: 0 | AN39: 0 | AP39: 0 | BD39: 0 | BF39: 0 | BP39: 0 | BR39: 0 | CB39: 0 | CD39: 0
A40: Писец | B40: =SUM(0,Z40,AN40,BD40,BP40,CB40) | D40: =SUM(N40,AB40,AP40,BF40,BR40,CD40) | F40: =0+Z40+AN40 | H40: =N40+AB40+AP40 | J40: =BD40+BP40+CB40 | L40: =BF40+BR40+CD40 | N40: =SUM(P40:Y40) | V40: 0 | Z40: 0 | AB40: 0 | AN40: 0 | AP40: 0 | BD40: 0 | BF40: 0 | BP40: 0 | BR40: 0 | CB40: 0 | CD40: 0
A41: Calltouch | B41: =SUM(0,Z41,AN41,BD41,BP41,CB41) | D41: =SUM(N41,AB41,AP41,BF41,BR41,CD41) | F41: =0+Z41+AN41 | H41: =N41+AB41+AP41 | J41: =BD41+BP41+CB41 | L41: =BF41+BR41+CD41 | N41: =SUM(P41:Y41) | V41: 7500 | Z41: 0 | AB41: 0 | AN41: 0 | AP41: 0 | BD41: 0 | BF41: 0 | BP41: 0 | BR41: 0 | CB41: 0 | CD41: 0
A42: Контент-рассылка | B42: =SUM(0,Z42,AN42,BD42,BP42,CB42) | D42: =SUM(N42,AB42,AP42,BF42,BR42,CD42) | F42: =0+Z42+AN42 | H42: =N42+AB42+AP42 | J42: =BD42+BP42+CB42 | L42: =BF42+BR42+CD42 | N42: =SUM(P42:Y42) | V42: 0 | Z42: 0 | AB42: 0 | AN42: 0 | AP42: 0 | BD42: 0 | BF42: 0 | BP42: 0 | BR42: 0 | CB42: 0 | CD42: 0
A43: Sendsay | B43: =SUM(0,Z43,AN43,BD43,BP43,CB43) | D43: =SUM(N43,AB43,AP43,BF43,BR43,CD43) | F43: =0+Z43+AN43 | H43: =N43+AB43+AP43 | J43: =BD43+BP43+CB43 | L43: =BF43+BR43+CD43 | N43: =SUM(P43:Y43) | V43: 0 | Z43: 0 | AB43: 0 | AN43: 0 | AP43: 0 | BD43: 0 | BF43: 0 | BP43: 0 | BR43: 0 | CB43: 0 | CD43: 0
...

Sheet Каналы продукт 1
B2: 2026 | F2: 3Q2025 | J2: 4Q2025 | N2: Июль | AB2: Август | AP2: Сентябрь | BF2: Октябрь | BR2: Ноябрь | CD2: Декабрь
B3: Квота | D3: Факт | F3: Квота | H3: Факт | J3: Квота | L3: Факт | N3: Квота | P3: Факт | R3: 30.06 - 06.07 | T3: 07.07 - 13.07 | V3: 14.07 - 20.07 | X3: 21.07 - 27.07 | Z3: 28.07 - 03.08 | AB3: Квота | AD3: Факт | AF3: 04.08 - 10.08 | AH3: 11.08 - 17.08 | AJ3: 18.08 - 24.08 | AL3: 25.08 - 31.08 | AN3: 26.08 - 31.08 | AP3: Квота | AR3: Факт | AT3: 01-07.09 | AV3: 08.09 - 14.09 | AX3: 15.09 - 21.09 | AZ3: 22.09 - 28.09 | BB3: 29.09 - 05.10 | BD3: 45930 | BF3: Квота | BH3: Факт | BJ3: 06.10 - 12.10 | BL3: 13.10 - 19.10 | BN3: 20.10 - 26.10 | BP3: 27.10 - 02.11 | BR3: Квота | BT3: Факт | BV3: 03.11 - 09.11 | BX3: 10.11 - 16.11 | BZ3: 17.11 - 23.11 | CB3: 24.11 - 30.11 | CD3: Квота | CF3: Факт | CH3: 01.12 - 07.12 | CJ3: 08.12 - 14.12 | CL3: 15.12 - 21.12 | CN3: 22.12 - 28.12 | CP3: 29.12 - 30.12
B4: MQL | C4: SQL | D4: MQL | E4: SQL | F4: MQL | G4: SQL | H4: MQL | I4: SQL | J4: MQL | K4: SQL | L4: MQL | M4: SQL | N4: MQL | O4: SQL | P4: MQL | Q4: SQL | R4: MQL | S4: SQL | T4: MQL | U4: SQL | V4: MQL | W4: SQL | X4: MQL | Y4: SQL | Z4: MQL | AA4: SQL | AB4: MQL | AC4: SQL | AD4: MQL | AE4: SQL | AF4: MQL | AG4: SQL | AH4: MQL | AI4: SQL | AJ4: MQL | AK4: SQL | AL4: MQL | AM4: SQL | AN4: MQL | AO4: SQL | AP4: MQL | AQ4: SQL | AR4: MQL | AS4: SQL | AT4: MQL | AU4: SQL | AV4: MQL | AW4: SQL | AX4: MQL | AY4: SQL | AZ4: MQL | BA4: SQL | BB4: MQL | BC4: SQL | BD4: MQL | BE4: SQL | BF4: MQL | BG4: SQL | BH4: MQL | BI4: SQL | BJ4: MQL | BK4: SQL | BL4: MQL | BM4: SQL | BN4: MQL | BO4: SQL | BP4: MQL | BQ4: SQL | BR4: MQL | BS4: SQL | BT4: MQL | BU4: SQL | BV4: MQL | BW4: SQL | BX4: MQL | BY4: SQL | BZ4: MQL | CA4: SQL | CB4: MQL | CC4: SQL | CD4: MQL | CE4: SQL | CF4: MQL | CG4: SQL | CH4: MQL | CI4: SQL | CJ4: MQL | CK4: SQL | CL4: MQL | CM4: SQL | CN4: MQL | CO4: SQL | CP4: MQL | CQ4: SQL
A5: Лиды | B5: ='Продукт 3'!B11 | C5: ='Продукт 3'!D11 | D5: =SUM(P5,AD5,AR5,BH5,BT5,CF5) | E5: =SUM(Q5,AE5,AS5,BI5,BU5,CG5) | F5: ='Продукт 2'!B6+'Продукт 2'!B7+'Продукт 2'!B8+'Продукт 3'!B6+'Продукт 3'!B7+'Продукт 3'!B8 | G5: ='Продукт 2'!D6+'Продукт 2'!D7+'Продукт 2'!D8 | H5: =AD5+AR5+BH5 | I5: =AE5+AS5+BI5 | J5: ='Продукт 2'!B8+'Продукт 2'!B9+'Продукт 2'!B10+'Продукт 3'!B8+'Продукт 3'!B9+'Продукт 3'!B10 | K5: ='Продукт 2'!D8+'Продукт 2'!D9+'Продукт 2'!D10+'Продукт 3'!D8+'Продукт 3'!D9+'Продукт 3'!D10 | L5: =BH5+BT5+CF5 | M5: =BI5+BU5+CG5 | N5: =SUM(N7:N20) | O5: =SUM(O7:O20) | P5: =SUM(P7:P20) | Q5: =SUM(Q7:Q20) | R5: =SUM(R7:R20) | S5: =SUM(S7:S20) | T5: =SUM(T7:T20) | U5: =SUM(U7:U20) | ... AA5: =SUM(AA7:AA20) | AB5: ='Продукт 3'!B6 | AC5: ='Продукт 3'!D6 | AD5: =SUM(AD7:AD20) | AE5: =SUM(AE7:AE20) | AF5: =SUM(AF7:AF20) | AG5: =SUM(AG7:AG20) | AH5: =SUM(AH7:AH20) | AI5: =SUM(AI7:AI20) | AJ5: =SUM(AJ7:AJ20) | AK5: =SUM(AK7:AK20) | ... AO5: =SUM(AO7:AO20) | AP5: ='Продукт 2'!B7+'Продукт 3'!B7 | AQ5: ='Продукт 3'!D7 | AR5: =SUM(AR7:AR20) | AS5: =SUM(AS7:AS20) | AT5: =SUM(AT7:AT20) | AU5: =SUM(AU7:AU20) | AV5: =SUM(AV7:AV20) | AW5: =SUM(AW7:AW20) | AX5: =SUM(AX7:AX20) | AY5: =SUM(AY7:AY20) | ... BE5: =SUM(BE7:BE20) | BF5: ='Продукт 2'!B8+'Продукт 3'!B8 | BG5: ='Продукт 2'!D8+'Продукт 3'!D8 | BH5: =SUM(BH7:BH20) | BI5: =SUM(BI7:BI20) | BJ5: =SUM(BJ7:BJ20) | BK5: =SUM(BK7:BK20) | BL5: =SUM(BL7:BL20) | BM5: =SUM(BM7:BM20) | BN5: =SUM(BN7:BN20) | BO5: =SUM(BO7:BO20) | ... BQ5: =SUM(BQ7:BQ20) | BR5: ='Продукт 2'!B9+'Продукт 3'!B9 | BS5: ='Продукт 2'!D9+'Продукт 3'!D9 | BT5: =SUM(BT7:BT20) | BU5: =SUM(BU7:BU20) | BV5: =SUM(BV7:BV20) | BW5: =SUM(BW7:BW20) | BX5: =SUM(BX7:BX20) | BY5: =SUM(BY7:BY20) | BZ5: =SUM(BZ7:BZ20) | CA5: =SUM(CA7:CA20) | ... CC5: =SUM(CC7:CC20) | CD5: ='Продукт 2'!B10+'Продукт 3'!B10 | CE5: ='Продукт 2'!D10+'Продукт 3'!D10 | CF5: =SUM(CF7:CF20) | CG5: =SUM(CG7:CG20) | CH5: =SUM(CH7:CH20) | CI5: =SUM(CI7:CI20) | CJ5: =SUM(CJ7:CJ20) | CK5: =SUM(CK7:CK20) | CL5: =SUM(CL7:CL20) | CM5: =SUM(CM7:CM20) | ... CQ5: =SUM(CQ7:CQ20)
A6: MQL->SQL | B6: 0.4 | D6: =IFERROR(E5/D5,0) | F6: =IFERROR(G5/F5,0) | H6: =IFERROR(I5/H5,0) | J6: =IFERROR(K5/J5,0) | L6: =IFERROR(M5/L5,0) | N6: 0.4 | P6: =IFERROR(Q5/P5,0) | R6: =IFERROR(S5/R5,0) | T6: =IFERROR(U5/T5,0) | V6: =IFERROR(W5/V5,0) | X6: =IFERROR(Y5/X5,0) | Z6: =IFERROR(AA5/Z5,0) | AB6: =IFERROR(AC5/AB5,0) | AD6: =IFERROR(AE5/AD5,0) | AF6: =IFERROR(AG5/AF5,0) | AH6: =IFERROR(AI5/AH5,0) | AJ6: =IFERROR(AK5/AJ5,0) | AL6: =IFERROR(AM5/AL5,0) | AN6: =IFERROR(AO5/AN5,0) | AP6: =IFERROR(AQ5/AP5,0) | AR6: =IFERROR(AS5/AR5,0) | AT6: =IFERROR(AU5/AT5,0) | AV6: =IFERROR(AW5/AV5,0) | AX6: =IFERROR(AY5/AX5,0) | AZ6: =IFERROR(BA5/AZ5,0) | BB6: =IFERROR(BC5/BB5,0) | BD6: =IFERROR(BE5/BD5,0) | BF6: =IFERROR(BG5/BF5,0) | BH6: =IFERROR(BI5/BH5,0) | BJ6: =IFERROR(BK5/BJ5,0) | BL6: =IFERROR(BM5/BL5,0) | BN6: =IFERROR(BO5/BN5,0) | BP6: =IFERROR(BQ5/BP5,0) | BR6: =IFERROR(BS5/BR5,0) | BT6: =IFERROR(BU5/BT5,0) | BV6: =IFERROR(BW5/BV5,0) | BX6: =IFERROR(BY5/BX5,0) | BZ6: =IFERROR(CA5/BZ5,0) | CB6: =IFERROR(CC5/CB5,0) | CD6: =IFERROR(CE5/CD5,0) | CF6: =IFERROR(CG5/CF5,0) | CH6: =IFERROR(CI5/CH5,0) | CJ6: =IFERROR(CK5/CJ5,0) | CL6: =IFERROR(CM5/CL5,0) | CN6: =IFERROR(CO5/CN5,0) | CP6: =IFERROR(CQ5/CP5,0)
A7: SEO | D7: =SUM(P7,AD7,AR7,BH7,BT7,CF7) | E7: =SUM(Q7,AE7,AS7,BI7,BU7,CG7) | H7: =P7+AD7+AR7 | I7: =Q7+AE7+AS7 | L7: =BH7+BT7+CF7 | M7: =BI7+BU7+CG7 | P7: =R7+T7+V7+X7+Z7 | Q7: =S7+U7+W7+AA7 | AD7: =AF7+AH7+AJ7+AL7+AN7 | AE7: =AG7+AI7+AK7+AO7 | AF7: 0 | AG7: 0 | AH7: 0 | AI7: 0 | AJ7: 0 | AK7: 0 | AL7: 0 | AM7: 0 | AR7: =AT7+AV7+AX7+AZ7+BB7 | AS7: =AU7+AW7+BA7+BC7 | AT7: 1 | AU7: 1 | AV7: 0 | AW7: 0 | AX7: 0 | AY7: 0
A8: Яндекс.Директ | D8: =SUM(P8,AD8,AR8,BH8,BT8,CF8) | E8: =SUM(Q8,AE8,AS8,BI8,BU8,CG8) | H8: =P8+AD8+AR8 | I8: =Q8+AE8+AS8 | L8: =BH8+BT8+CF8 | M8: =BI8+BU8+CG8 | P8: =R8+T8+V8+X8+Z8 | Q8: =S8+U8+W8+AA8 | AD8: =AF8+AH8+AJ8+AL8+AN8 | AE8: =AG8+AI8+AK8+AO8 | AF8: 0 | AG8: 0 | AH8: 0 | AI8: 0 | AJ8: 1 | AK8: 1 | AL8: 0 | AM8: 0 | AR8: =AT8+AV8+AX8+AZ8+BB8 | AS8: =AU8+AW8+BA8+BC8 | AT8: 1 | AU8: 1 | AV8: 1 | AW8: 0 | AX8: 0 | AY8: 0
A9: Реферал | D9: =SUM(P9,AD9,AR9,BH9,BT9,CF9) | E9: =SUM(Q9,AE9,AS9,BI9,BU9,CG9) | H9: =P9+AD9+AR9 | I9: =Q9+AE9+AS9 | L9: =BH9+BT9+CF9 | M9: =BI9+BU9+CG9 | P9: =R9+T9+V9+X9+Z9 | Q9: =S9+U9+W9+AA9 | AD9: =AF9+AH9+AJ9+AL9+AN9 | AE9: =AG9+AI9+AK9+AO9 | AF9: 0 | AG9: 0 | AH9: 0 | AI9: 0 | AJ9: 0 | AK9: 0 | AL9: 0 | AM9: 0 | AR9: =AT9+AV9+AX9+AZ9+BB9 | AS9: =AU9+AW9+BA9+BC9 | AT9: 0 | AU9: 0 | AV9: 0 | AW9: 0 | AX9: 0 | AY9: 0
A10: Внешние площадки | D10: =SUM(P10,AD10,AR10,BH10,BT10,CF10) | E10: =SUM(Q10,AE10,AS10,BI10,BU10,CG10) | H10: =P10+AD10+AR10 | I10: =Q10+AE10+AS10 | L10: =BH10+BT10+CF10 | M10: =BI10+BU10+CG10 | P10: =R10+T10+V10+X10+Z10 | Q10: =S10+U10+W10+AA10 | AD10: =AF10+AH10+AJ10+AL10+AN10 | AE10: =AG10+AI10+AK10+AO10 | AF10: 0 | AG10: 0 | AH10: 0 | AI10: 0 | AJ10: 0 | AK10: 0 | AL10: 0 | AM10: 0 | AR10: =AT10+AV10+AX10+AZ10+BB10 | AS10: =AU10+AW10+BA10+BC10 | AT10: 0 | AU10: 0 | AV10: 0 | AW10: 0 | AX10: 0 | AY10: 0
A11: Соцсети | D11: =SUM(P11,AD11,AR11,BH11,BT11,CF11) | E11: =SUM(Q11,AE11,AS11,BI11,BU11,CG11) | H11: =P11+AD11+AR11 | I11: =Q11+AE11+AS11 | L11: =BH11+BT11+CF11 | M11: =BI11+BU11+CG11 | P11: =R11+T11+V11+X11+Z11 | Q11: =S11+U11+W11+AA11 | AD11: =AF11+AH11+AJ11+AL11+AN11 | AE11: =AG11+AI11+AK11+AO11 | AF11: 0 | AG11: 0 | AH11: 1 | AI11: 1 | AJ11: 0 | AK11: 0 | AL11: 1 | AM11: 1 | AR11: =AT11+AV11+AX11+AZ11+BB11 | AS11: =AU11+AW11+BA11+BC11 | AT11: 0 | AU11: 0 | AV11: 3 | AW11: 3 | AX11: 3 | AY11: 3
A12: Прямые визиты | D12: =SUM(P12,AD12,AR12,BH12,BT12,CF12) | E12: =SUM(Q12,AE12,AS12,BI12,BU12,CG12) | H12: =P12+AD12+AR12 | I12: =Q12+AE12+AS12 | L12: =BH12+BT12+CF12 | M12: =BI12+BU12+CG12 | P12: =R12+T12+V12+X12+Z12 | Q12: =S12+U12+W12+AA12 | AD12: =AF12+AH12+AJ12+AL12+AN12 | AE12: =AG12+AI12+AK12+AO12 | AF12: 0 | AG12: 0 | AH12: 0 | AI12: 0 | AJ12: 0 | AK12: 0 | AL12: 0 | AM12: 0 | AR12: =AT12+AV12+AX12+AZ12+BB12 | AS12: =AU12+AW12+BA12+BC12 | AT12: 0 | AU12: 0 | AV12: 0 | AW12: 0 | AX12: 0 | AY12: 0
A13: VK Реклама | D13: =SUM(P13,AD13,AR13,BH13,BT13,CF13) | E13: =SUM(Q13,AE13,AS13,BI13,BU13,CG13) | H13: =P13+AD13+AR13 | I13: =Q13+AE13+AS13 | L13: =BH13+BT13+CF13 | M13: =BI13+BU13+CG13 | P13: =R13+T13+V13+X13+Z13 | Q13: =S13+U13+W13+AA13 | AD13: =AF13+AH13+AJ13+AL13+AN13 | AE13: =AG13+AI13+AK13+AO13 | AF13: 0 | AG13: 0 | AH13: 0 | AI13: 0 | AJ13: 0 | AK13: 0 | AL13: 0 | AM13: 0 | AR13: =AT13+AV13+AX13+AZ13+BB13 | AS13: =AU13+AW13+BA13+BC13 | AT13: 0 | AU13: 0 | AV13: 0 | AW13: 0 | AX13: 0 | AY13: 0
A14: Вебинары/Мероприятия | D14: =SUM(P14,AD14,AR14,BH14,BT14,CF14) | E14: =SUM(Q14,AE14,AS14,BI14,BU14,CG14) | H14: =P14+AD14+AR14 | I14: =Q14+AE14+AS14 | L14: =BH14+BT14+CF14 | M14: =BI14+BU14+CG14 | P14: =R14+T14+V14+X14+Z14 | Q14: =S14+U14+W14+AA14 | AD14: =AF14+AH14+AJ14+AL14+AN14 | AE14: =AG14+AI14+AK14+AO14 | AF14: 0 | AG14: 0 | AH14: 0 | AI14: 0 | AJ14: 0 | AK14: 0 | AL14: 0 | AM14: 0 | AR14: =AT14+AV14+AX14+AZ14+BB14 | AS14: =AU14+AW14+BA14+BC14 | AT14: 0 | AU14: 0 | AV14: 0 | AW14: 0 | AX14: 0 | AY14: 0
A15: Рассылки по нашей базе | D15: =SUM(P15,AD15,AR15,BH15,BT15,CF15) | E15: =SUM(Q15,AE15,AS15,BI15,BU15,CG15) | H15: =P15+AD15+AR15 | I15: =Q15+AE15+AS15 | L15: =BH15+BT15+CF15 | M15: =BI15+BU15+CG15 | P15: =R15+T15+V15+X15+Z15 | Q15: =S15+U15+W15+AA15 | AD15: =AF15+AH15+AJ15+AL15+AN15 | AE15: =AG15+AI15+AK15+AO15 | AF15: 0 | AG15: 0 | AH15: 0 | AI15: 0 | AJ15: 0 | AK15: 0 | AL15: 0 | AM15: 0 | AR15: =AT15+AV15+AX15+AZ15+BB15 | AS15: =AU15+AW15+BA15+BC15 | AT15: 5 | AU15: 5 | AV15: 3 | AW15: 3 | AX15: 1 | AY15: 0
A16: Рассылки по холодной базе | D16: =SUM(P16,AD16,AR16,BH16,BT16,CF16) | E16: =SUM(Q16,AE16,AS16,BI16,BU16,CG16) | H16: =P16+AD16+AR16 | I16: =Q16+AE16+AS16 | L16: =BH16+BT16+CF16 | M16: =BI16+BU16+CG16 | P16: =R16+T16+V16+X16+Z16 | Q16: =S16+U16+W16+AA16 | AD16: =AF16+AH16+AJ16+AL16+AN16 | AE16: =AG16+AI16+AK16+AO16 | AF16: 0 | AG16: 0 | AH16: 0 | AI16: 0 | AJ16: 0 | AK16: 0 | AL16: 0 | AM16: 0 | AR16: =AT16+AV16+AX16+AZ16+BB16 | AS16: =AU16+AW16+BA16+BC16 | AT16: 0 | AU16: 0 | AV16: 0 | AW16: 0 | AX16: 0 | AY16: 0
A17: Входящий звонок | D17: =SUM(P17,AD17,AR17,BH17,BT17,CF17) | E17: =SUM(Q17,AE17,AS17,BI17,BU17,CG17) | H17: =P17+AD17+AR17 | I17: =Q17+AE17+AS17 | L17: =BH17+BT17+CF17 | M17: =BI17+BU17+CG17 | P17: =R17+T17+V17+X17+Z17 | Q17: =S17+U17+W17+AA17 | AD17: =AF17+AH17+AJ17+AL17+AN17 | AE17: =AG17+AI17+AK17+AO17 | AF17: 0 | AG17: 0 | AH17: 0 | AI17: 0 | AJ17: 0 | AK17: 0 | AL17: 0 | AM17: 0 | AR17: =AT17+AV17+AX17+AZ17+BB17 | AS17: =AU17+AW17+BA17+BC17 | AT17: 0 | AU17: 0 | AV17: 0 | AW17: 0 | AX17: 0 | AY17: 0
A18: Входящая почта sales | D18: =SUM(P18,AD18,AR18,BH18,BT18,CF18) | E18: =SUM(Q18,AE18,AS18,BI18,BU18,CG18) | H18: =P18+AD18+AR18 | I18: =Q18+AE18+AS18 | L18: =BH18+BT18+CF18 | M18: =BI18+BU18+CG18 | P18: =R18+T18+V18+X18+Z18 | Q18: =S18+U18+W18+AA18 | AD18: =AF18+AH18+AJ18+AL18+AN18 | AE18: =AG18+AI18+AK18+AO18 | AF18: 0 | AG18: 0 | AH18: 0 | AI18: 0 | AJ18: 0 | AK18: 0 | AL18: 0 | AM18: 0 | AR18: =AT18+AV18+AX18+AZ18+BB18 | AS18: =AU18+AW18+BA18+BC18 | AT18: 0 | AU18: 0 | AV18: 0 | AW18: 0 | AX18: 0 | AY18: 0
... A20: Неизвестно | D20: =SUM(P20,AD20,AR20,BH20,BT20,CF20) | E20: =SUM(Q20,AE20,AS20,BI20,BU20,CG20) | H20: =P20+AD20+AR20 | I20: =Q20+AE20+AS20 | L20: =BH20+BT20+CF20 | M20: =BI20+BU20+CG20 | P20: =R20+T20+V20+X20+Z20 | Q20: =S20+U20+W20+AA20 | AD20: =AF20+AH20+AJ20+AL20+AN20 | AE20: =AG20+AI20+AK20+AO20 | AF20: 0 | AG20: 0 | AH20: 0 | AI20: 0 | AJ20: 0 | AK20: 0 | AL20: 0 | AM20: 0 | AR20: =AT20+AV20+AX20+AZ20+BB20 | AS20: =AU20+AW20+BA20+BC20 | AT20: 0 | AU20: 0 | AV20: 2 | AW20: 2 | AX20: 0 | AY20: 0
A22: Расходы | B22: Квота | D22: Факт | F22: Квота | H22: Факт | J22: Квота | L22: Факт | N22: Квота | P22: Факт | R22: 30.06 - 06.07 | T22: 07.07 - 13.07 | V22: 14.07 - 20.07 | X22: 21.07 - 27.07 | Z22: 28.07 - 03.08 | AB22: Квота | AD22: Факт | AF22: 04.08 - 10.08 | AH22: 11.08 - 17.08 | AJ22: 18.08 - 24.08 | AL22: 25.08 - 31.08 | AN22: 26.08 - 31.08 | AP22: Квота | AR22: Факт | AT22: 01-07.09 | AV22: 08.09 - 14.09 | AX22: 15.09 - 21.09 | AZ22: 22.09 - 28.09 | BB22: 29.09 - 05.10 | BD22: 45930 | BF22: Квота | BH22: Факт | BJ22: 06.10 - 12.10 | BL22: 13.10 - 19.10 | BN22: 20.10 - 26.10 | BP22: 27.10 - 02.11 | BR22: Квота | BT22: Факт | BV22: 03.11 - 09.11 | BX22: 10.11 - 16.11 | BZ22: 17.11 - 23.11 | CB22: 24.11 - 30.11 | CD22: Квота | CF22: Факт | CH22: 01.12 - 07.12 | CJ22: 08.12 - 14.12 | CL22: 15.12 - 21.12 | CN22: 22.12 - 28.12 | CP22: 29.12 - 30.12
A23: Всего на платное продвижение: | B23: ='Продукт 2'!Z11+'Продукт 3'!Z11 | D23: =SUM(Z23,AN23,BB23,BP23,CB23,CL23) | F23: =N23+AB23+AP23 | H23: =P23+AD23+AR23 | J23: =BF23+BR23+CD23 | L23: =BH23+BT23+CF23 | N23: 380000 | P23: =SUM(P26:Q36) | R23: =SUM(R33:S50) | T23: =SUM(T33:U50) | V23: =SUM(V33:W50) | X23: =SUM(X33:Y50) | Z23: =SUM(Z33:AA50) | AB23: 120000 | AD23: =SUM(AD26:AE36) | AF23: =SUM(AF33:AG50) | AH23: =SUM(AH33:AI50) | AJ23: =SUM(AJ33:AK50) | AL23: =SUM(AL33:AM50) | AN23: =SUM(AN33:AO50) | AP23: 380000 | AR23: =SUM(AR26:AS36) | AT23: =SUM(AT26:AU36) | AV23: =SUM(AV26:AW36) | AX23: =SUM(AX26:AY36) | AZ23: =SUM(AZ26:BA36) | BB23: =SUM(BB26:BC36) | BD23: =SUM(BD33:BE50) | BF23: 380000 | BH23: =SUM(BH26:BI36) | BJ23: =SUM(BJ33:BK50) | BL23: =SUM(BL33:BM50) | BN23: =SUM(BN33:BO50) | BP23: =SUM(BP33:BQ50) | BR23: 380000 | BT23: =SUM(BT26:BU36) | BV23: =SUM(BV33:BW50) | BX23: =SUM(BX33:BY50) | BZ23: =SUM(BZ33:CA50) | CB23: =SUM(CB33:CC50) | CD23: 380000 | CF23: =SUM(CF26:CG36)
A24: Всего на лидогенерацию: | B24: =B23*0.7 | D24: =SUM(D26:E36) | F24: =F23*0.7 | H24: =SUM(H26:I36) | J24: =J23*0.7 | L24: =SUM(L26:M36) | N24: =N23*0.7 | P24: =SUM(R24:AA24) | R24: =SUM(R26:S34) | T24: =SUM(T26:U34) | V24: =SUM(V26:W34) | X24: =SUM(X26:Y34) | Z24: =SUM(Z26:AA34) | AB24: =AB23*0.6 | AD24: =SUM(AF24:AO24) | AF24: =SUM(AF26:AG34) | AH24: =SUM(AH26:AI34) | AJ24: =SUM(AJ26:AK34) | AL24: =SUM(AL26:AM34) | AN24: =SUM(AN26:AO34) | AP24: =AP23*0.7 | AR24: =SUM(AT24:BC24) | BD24: =SUM(BD36,0,BD33,BD32,BD29,BD27,BD264,BD34,BD26) | BF24: =BF23*0.7 | BH24: =SUM(BH26:BI34) | BJ24: =SUM(BJ36,0,BJ33,BJ32,BJ29,BJ27,BJ264,BJ34,BJ26) | BL24: =SUM(BL36,0,BL33,BL32,BL29,BL27,BL264,BL34,BL26) | BN24: =SUM(BN36,0,BN33,BN32,BN29,BN27,BN264,BN34,BN26) | BP24: =SUM(BP36,0,BP33,BP32,BP29,BP27,BP264,BP34,BP26) | BR24: =BR23*0.7 | BT24: =SUM(BT26:BU34) | BV24: =SUM(BV36,0,BV33,BV32,BV29,BV27,BV264,BV34,BV26) | BX24: =SUM(BX36,0,BX33,BX32,BX29,BX27,BX264,BX34,BX26) | BZ24: =SUM(BZ36,0,BZ33,BZ32,BZ29,BZ27,BZ264,BZ34,BZ26) | CB24: =SUM(CB36,0,CB33,CB32,CB29,CB27,CB264,CB34,CB26) | CD24: =CD23*0.7 | CF24: =SUM(CF26:CG34)
A25: Всего на мероприятия: | B25: =B23*0.3 | D25: =SUM(Z25,AN25,BB25,BP25,CB25,CL25) | F25: =F23*0.3 | J25: =J23*0.3 | N25: =N23*0.3 | P25: =P36 | R25: =R36 | T25: =T36 | V25: =V36 | X25: =X36 | Z25: =Z36 | AB25: =AB23*0.2 | AD25: =AD36 | AF25: =AF36 | AH25: =AH36 | AJ25: =AJ36 | AL25: =AL36 | AN25: =AN36 | AP25: =AP23*0.3 | AR25: =AR36 | BF25: =BF23*0.3 | BH25: =BH36 | BR25: =BR23*0.3 | BT25: =BT36 | CD25: =CD23*0.3 | CF25: =CF36
A26: Яндекс Директ | D26: =SUM(P26,AD26,AR26,BH26,BT26,CF26) | H26: =P26+AD26+AR26 | J26: =BF26+BR26+CD26 | L26: =BH26+BT26+CF26 | P26: =SUM(R26:AA26) | Z26: 182.51 | AD26: =SUM(AF26:AO26) | AF26: 0 | AH26: 0 | AJ26: 15211.16 | AL26: 10998.74 | AT26: 12518 | AV26: 411.77 | AX26: 1232.49
A27: VK ADS | D27: =SUM(P27,AD27,AR27,BH27,BT27,CF27) | H27: =P27+AD27+AR27 | J27: =BF27+BR27+CD27 | L27: =BH27+BT27+CF27 | P27: =SUM(R27:AA27) | AD27: =SUM(AF27:AO27) | AF27: 0 | AH27: 0
A28: VK Adblogger | D28: =SUM(P28,AD28,AR28,BH28,BT28,CF28) | H28: =P28+AD28+AR28 | J28: =BF28+BR28+CD28 | L28: =BH28+BT28+CF28 | P28: =SUM(R28:AA28) | AD28: =SUM(AF28:AO28) | AF28: 0 | AH28: 0
A29: TG ADS | D29: =SUM(P29,AD29,AR29,BH29,BT29,CF29) | H29: =P29+AD29+AR29 | J29: =BF29+BR29+CD29 | L29: =BH29+BT29+CF29 | P29: =SUM(R29:AA29) | AD29: =SUM(AF29:AO29) | AF29: 0 | AH29: 0
A30: TG Посевы | D30: =SUM(P30,AD30,AR30,BH30,BT30,CF30) | H30: =P30+AD30+AR30 | J30: =BF30+BR30+CD30 | L30: =BH30+BT30+CF30 | P30: =SUM(R30:AA30) | AD30: =SUM(AF30:AO30) | AF30: 0 | AH30: 0 | AL30: 11188
A31: Теплые рассылки | D31: =SUM(P31,AD31,AR31,BH31,BT31,CF31) | H31: =P31+AD31+AR31 | J31: =BF31+BR31+CD31 | L31: =BH31+BT31+CF31 | P31: =SUM(R31:AA31) | AD31: =SUM(AF31:AO31) | AF31: 0 | AH31: 0
A32: Холодные рассылки | D32: =SUM(P32,AD32,AR32,BH32,BT32,CF32) | H32: =P32+AD32+AR32 | J32: =BF32+BR32+CD32 | L32: =BH32+BT32+CF32 | P32: =SUM(R32:AA32) | AD32: =SUM(AF32:AO32) | AF32: 0 | AH32: 0
